BEGIN:VCALENDAR
VERSION:2.0
PRODID:-//Blase Cafe &amp; Pi Pizza &amp; Craft Martini Bar - ECPv6.15.20//NONSGML v1.0//EN
CALSCALE:GREGORIAN
METHOD:PUBLISH
X-ORIGINAL-URL:https://blasepisiesta.com
X-WR-CALDESC:Events for Blase Cafe &amp; Pi Pizza &amp; Craft Martini Bar
REFRESH-INTERVAL;VALUE=DURATION:PT1H
X-Robots-Tag:noindex
X-PUBLISHED-TTL:PT1H
BEGIN:VTIMEZONE
TZID:America/New_York
BEGIN:DAYLIGHT
TZOFFSETFROM:-0500
TZOFFSETTO:-0400
TZNAME:EDT
DTSTART:20240310T070000
END:DAYLIGHT
BEGIN:STANDARD
TZOFFSETFROM:-0400
TZOFFSETTO:-0500
TZNAME:EST
DTSTART:20241103T060000
END:STANDARD
BEGIN:DAYLIGHT
TZOFFSETFROM:-0500
TZOFFSETTO:-0400
TZNAME:EDT
DTSTART:20250309T070000
END:DAYLIGHT
BEGIN:STANDARD
TZOFFSETFROM:-0400
TZOFFSETTO:-0500
TZNAME:EST
DTSTART:20251102T060000
END:STANDARD
BEGIN:DAYLIGHT
TZOFFSETFROM:-0500
TZOFFSETTO:-0400
TZNAME:EDT
DTSTART:20260308T070000
END:DAYLIGHT
BEGIN:STANDARD
TZOFFSETFROM:-0400
TZOFFSETTO:-0500
TZNAME:EST
DTSTART:20261101T060000
END:STANDARD
BEGIN:DAYLIGHT
TZOFFSETFROM:-0500
TZOFFSETTO:-0400
TZNAME:EDT
DTSTART:20270314T070000
END:DAYLIGHT
BEGIN:STANDARD
TZOFFSETFROM:-0400
TZOFFSETTO:-0500
TZNAME:EST
DTSTART:20271107T060000
END:STANDARD
END:VTIMEZONE
BEGIN:VEVENT
DTSTART;TZID=America/New_York:20251217T190000
DTEND;TZID=America/New_York:20251217T220000
DTSTAMP:20260420T081041
CREATED:20251110T183200Z
LAST-MODIFIED:20251110T183200Z
UID:2380-1765998000-1766008800@blasepisiesta.com
SUMMARY:Miranda Becker
DESCRIPTION:
URL:https://blasepisiesta.com/event/miranda-becker-11/
LOCATION:Blase Cafe\, 5263 Ocean Blvd.\, Sarasota\, FL\, 34242\, United States
CATEGORIES:Music
END:VEVENT
BEGIN:VEVENT
DTSTART;TZID=America/New_York:20251218T190000
DTEND;TZID=America/New_York:20251218T220000
DTSTAMP:20260420T081041
CREATED:20251110T183238Z
LAST-MODIFIED:20251110T183238Z
UID:2382-1766084400-1766095200@blasepisiesta.com
SUMMARY:Byrd N Moore
DESCRIPTION:
URL:https://blasepisiesta.com/event/byrd-n-moore-33/
LOCATION:Blase Cafe\, 5263 Ocean Blvd.\, Sarasota\, FL\, 34242\, United States
CATEGORIES:Music
END:VEVENT
BEGIN:VEVENT
DTSTART;TZID=America/New_York:20251219T190000
DTEND;TZID=America/New_York:20251219T220000
DTSTAMP:20260420T081041
CREATED:20251110T183311Z
LAST-MODIFIED:20251110T183311Z
UID:2384-1766170800-1766181600@blasepisiesta.com
SUMMARY:The Monsoons
DESCRIPTION:
URL:https://blasepisiesta.com/event/the-monsoons-8/
LOCATION:Blase Cafe\, 5263 Ocean Blvd.\, Sarasota\, FL\, 34242\, United States
CATEGORIES:Music
END:VEVENT
BEGIN:VEVENT
DTSTART;TZID=America/New_York:20251220T190000
DTEND;TZID=America/New_York:20251220T220000
DTSTAMP:20260420T081041
CREATED:20251205T145216Z
LAST-MODIFIED:20251205T145216Z
UID:2432-1766257200-1766268000@blasepisiesta.com
SUMMARY:Undr8ed Band
DESCRIPTION:
URL:https://blasepisiesta.com/event/undr8ed-band-9/
LOCATION:Blase Cafe\, 5263 Ocean Blvd.\, Sarasota\, FL\, 34242\, United States
CATEGORIES:Music
END:VEVENT
BEGIN:VEVENT
DTSTART;TZID=America/New_York:20251221T190000
DTEND;TZID=America/New_York:20251221T220000
DTSTAMP:20260420T081041
CREATED:20251110T183646Z
LAST-MODIFIED:20251110T183646Z
UID:2388-1766343600-1766354400@blasepisiesta.com
SUMMARY:Chris Connolly
DESCRIPTION:
URL:https://blasepisiesta.com/event/chris-connolly-9/
LOCATION:Blase Cafe\, 5263 Ocean Blvd.\, Sarasota\, FL\, 34242\, United States
CATEGORIES:Music
END:VEVENT
BEGIN:VEVENT
DTSTART;TZID=America/New_York:20251222T190000
DTEND;TZID=America/New_York:20251222T220000
DTSTAMP:20260420T081041
CREATED:20251110T183736Z
LAST-MODIFIED:20251110T183736Z
UID:2390-1766430000-1766440800@blasepisiesta.com
SUMMARY:Bobby Schneck
DESCRIPTION:
URL:https://blasepisiesta.com/event/bobby-schneck-5/
LOCATION:Blase Cafe\, 5263 Ocean Blvd.\, Sarasota\, FL\, 34242\, United States
CATEGORIES:Music
END:VEVENT
BEGIN:VEVENT
DTSTART;TZID=America/New_York:20251223T190000
DTEND;TZID=America/New_York:20251223T220000
DTSTAMP:20260420T081041
CREATED:20251110T183836Z
LAST-MODIFIED:20251110T183836Z
UID:2392-1766516400-1766527200@blasepisiesta.com
SUMMARY:Al Donadi
DESCRIPTION:
URL:https://blasepisiesta.com/event/al-donadi-20/
LOCATION:Blase Cafe\, 5263 Ocean Blvd.\, Sarasota\, FL\, 34242\, United States
CATEGORIES:Music
END:VEVENT
BEGIN:VEVENT
DTSTART;TZID=America/New_York:20251224T190000
DTEND;TZID=America/New_York:20251224T220000
DTSTAMP:20260420T081041
CREATED:20251110T183955Z
LAST-MODIFIED:20251110T183955Z
UID:2394-1766602800-1766613600@blasepisiesta.com
SUMMARY:Chris Connolly
DESCRIPTION:
URL:https://blasepisiesta.com/event/chris-connolly-10/
LOCATION:Blase Cafe\, 5263 Ocean Blvd.\, Sarasota\, FL\, 34242\, United States
CATEGORIES:Music
END:VEVENT
BEGIN:VEVENT
DTSTART;TZID=America/New_York:20251226T190000
DTEND;TZID=America/New_York:20251226T220000
DTSTAMP:20260420T081041
CREATED:20251110T184047Z
LAST-MODIFIED:20251110T184047Z
UID:2396-1766775600-1766786400@blasepisiesta.com
SUMMARY:Ellipsis
DESCRIPTION:
URL:https://blasepisiesta.com/event/ellipsis-4/
LOCATION:Blase Cafe\, 5263 Ocean Blvd.\, Sarasota\, FL\, 34242\, United States
CATEGORIES:Music
END:VEVENT
BEGIN:VEVENT
DTSTART;TZID=America/New_York:20251227T180000
DTEND;TZID=America/New_York:20251227T220000
DTSTAMP:20260420T081041
CREATED:20251110T184127Z
LAST-MODIFIED:20251110T184127Z
UID:2398-1766858400-1766872800@blasepisiesta.com
SUMMARY:Bri Rivera Band
DESCRIPTION:
URL:https://blasepisiesta.com/event/bri-rivera-band-8/
LOCATION:Blase Cafe\, 5263 Ocean Blvd.\, Sarasota\, FL\, 34242\, United States
CATEGORIES:Music
END:VEVENT
BEGIN:VEVENT
DTSTART;TZID=America/New_York:20251228T190000
DTEND;TZID=America/New_York:20251228T190000
DTSTAMP:20260420T081041
CREATED:20251110T184325Z
LAST-MODIFIED:20251110T184350Z
UID:2400-1766948400-1766948400@blasepisiesta.com
SUMMARY:J Santi Duo
DESCRIPTION:
URL:https://blasepisiesta.com/event/j-santi-duo-2/
LOCATION:Blase Cafe\, 5263 Ocean Blvd.\, Sarasota\, FL\, 34242\, United States
CATEGORIES:Music
END:VEVENT
BEGIN:VEVENT
DTSTART;TZID=America/New_York:20251229T190000
DTEND;TZID=America/New_York:20251229T220000
DTSTAMP:20260420T081041
CREATED:20251110T184418Z
LAST-MODIFIED:20251110T184418Z
UID:2403-1767034800-1767045600@blasepisiesta.com
SUMMARY:Ty Turner
DESCRIPTION:
URL:https://blasepisiesta.com/event/ty-turner-23/
LOCATION:Blase Cafe\, 5263 Ocean Blvd.\, Sarasota\, FL\, 34242\, United States
CATEGORIES:Music
END:VEVENT
BEGIN:VEVENT
DTSTART;TZID=America/New_York:20251230T190000
DTEND;TZID=America/New_York:20251230T220000
DTSTAMP:20260420T081041
CREATED:20251110T184501Z
LAST-MODIFIED:20251110T184501Z
UID:2405-1767121200-1767132000@blasepisiesta.com
SUMMARY:Al Donadi
DESCRIPTION:
URL:https://blasepisiesta.com/event/al-donadi-21/
LOCATION:Blase Cafe\, 5263 Ocean Blvd.\, Sarasota\, FL\, 34242\, United States
CATEGORIES:Music
END:VEVENT
BEGIN:VEVENT
DTSTART;TZID=America/New_York:20251231T200000
DTEND;TZID=America/New_York:20260101T000000
DTSTAMP:20260420T081041
CREATED:20251205T145749Z
LAST-MODIFIED:20251205T145749Z
UID:2439-1767211200-1767225600@blasepisiesta.com
SUMMARY:Mystical Visions
DESCRIPTION:
URL:https://blasepisiesta.com/event/mystical-visions-2/
LOCATION:Blase Cafe\, 5263 Ocean Blvd.\, Sarasota\, FL\, 34242\, United States
CATEGORIES:Music
END:VEVENT
BEGIN:VEVENT
DTSTART;TZID=America/New_York:20260101T180000
DTEND;TZID=America/New_York:20260101T220000
DTSTAMP:20260420T081041
CREATED:20251205T150108Z
LAST-MODIFIED:20251205T150108Z
UID:2441-1767290400-1767304800@blasepisiesta.com
SUMMARY:Byrd N Moore
DESCRIPTION:
URL:https://blasepisiesta.com/event/byrd-n-moore-34/
LOCATION:Blase Cafe\, 5263 Ocean Blvd.\, Sarasota\, FL\, 34242\, United States
CATEGORIES:Music
END:VEVENT
BEGIN:VEVENT
DTSTART;TZID=America/New_York:20260102T180000
DTEND;TZID=America/New_York:20260102T220000
DTSTAMP:20260420T081041
CREATED:20251205T150220Z
LAST-MODIFIED:20251205T150257Z
UID:2443-1767376800-1767391200@blasepisiesta.com
SUMMARY:Bri Rivera
DESCRIPTION:
URL:https://blasepisiesta.com/event/bri-rivera/
LOCATION:Blase Cafe\, 5263 Ocean Blvd.\, Sarasota\, FL\, 34242\, United States
CATEGORIES:Music
END:VEVENT
BEGIN:VEVENT
DTSTART;TZID=America/New_York:20260103T190000
DTEND;TZID=America/New_York:20260103T220000
DTSTAMP:20260420T081041
CREATED:20251205T150346Z
LAST-MODIFIED:20251205T150346Z
UID:2445-1767466800-1767477600@blasepisiesta.com
SUMMARY:J Santi & The Vital Groove
DESCRIPTION:
URL:https://blasepisiesta.com/event/j-santi-the-vital-groove-8/
LOCATION:Blase Cafe\, 5263 Ocean Blvd.\, Sarasota\, FL\, 34242\, United States
CATEGORIES:Music
END:VEVENT
BEGIN:VEVENT
DTSTART;TZID=America/New_York:20260104T190000
DTEND;TZID=America/New_York:20260104T220000
DTSTAMP:20260420T081041
CREATED:20251205T150536Z
LAST-MODIFIED:20251205T150536Z
UID:2447-1767553200-1767564000@blasepisiesta.com
SUMMARY:Miranda Becker
DESCRIPTION:
URL:https://blasepisiesta.com/event/miranda-becker-12/
LOCATION:Blase Cafe\, 5263 Ocean Blvd.\, Sarasota\, FL\, 34242\, United States
CATEGORIES:Music
END:VEVENT
BEGIN:VEVENT
DTSTART;TZID=America/New_York:20260105T190000
DTEND;TZID=America/New_York:20260105T220000
DTSTAMP:20260420T081041
CREATED:20251205T150822Z
LAST-MODIFIED:20251205T150822Z
UID:2449-1767639600-1767650400@blasepisiesta.com
SUMMARY:Chris Connolly
DESCRIPTION:
URL:https://blasepisiesta.com/event/chris-connolly-11/
LOCATION:Blase Cafe\, 5263 Ocean Blvd.\, Sarasota\, FL\, 34242\, United States
CATEGORIES:Music
END:VEVENT
BEGIN:VEVENT
DTSTART;TZID=America/New_York:20260106T190000
DTEND;TZID=America/New_York:20260106T220000
DTSTAMP:20260420T081041
CREATED:20251205T150927Z
LAST-MODIFIED:20251205T150927Z
UID:2451-1767726000-1767736800@blasepisiesta.com
SUMMARY:Al Donadi
DESCRIPTION:
URL:https://blasepisiesta.com/event/al-donadi-22/
LOCATION:Blase Cafe\, 5263 Ocean Blvd.\, Sarasota\, FL\, 34242\, United States
CATEGORIES:Music
END:VEVENT
BEGIN:VEVENT
DTSTART;TZID=America/New_York:20260107T190000
DTEND;TZID=America/New_York:20260107T220000
DTSTAMP:20260420T081041
CREATED:20251205T151134Z
LAST-MODIFIED:20251205T151134Z
UID:2453-1767812400-1767823200@blasepisiesta.com
SUMMARY:Joe Bernui
DESCRIPTION:
URL:https://blasepisiesta.com/event/joe-bernui-7/
LOCATION:Blase Cafe\, 5263 Ocean Blvd.\, Sarasota\, FL\, 34242\, United States
CATEGORIES:Music
END:VEVENT
BEGIN:VEVENT
DTSTART;TZID=America/New_York:20260108T180000
DTEND;TZID=America/New_York:20260108T220000
DTSTAMP:20260420T081041
CREATED:20251205T151224Z
LAST-MODIFIED:20251205T151224Z
UID:2455-1767895200-1767909600@blasepisiesta.com
SUMMARY:Byrd N Moore
DESCRIPTION:
URL:https://blasepisiesta.com/event/byrd-n-moore-35/
LOCATION:Blase Cafe\, 5263 Ocean Blvd.\, Sarasota\, FL\, 34242\, United States
CATEGORIES:Music
END:VEVENT
BEGIN:VEVENT
DTSTART;TZID=America/New_York:20260109T180000
DTEND;TZID=America/New_York:20260109T220000
DTSTAMP:20260420T081041
CREATED:20251205T151442Z
LAST-MODIFIED:20251205T151442Z
UID:2457-1767981600-1767996000@blasepisiesta.com
SUMMARY:Bri Rivera
DESCRIPTION:
URL:https://blasepisiesta.com/event/bri-rivera-2/
LOCATION:Blase Cafe\, 5263 Ocean Blvd.\, Sarasota\, FL\, 34242\, United States
CATEGORIES:Music
END:VEVENT
BEGIN:VEVENT
DTSTART;TZID=America/New_York:20260110T190000
DTEND;TZID=America/New_York:20260110T220000
DTSTAMP:20260420T081041
CREATED:20251205T151539Z
LAST-MODIFIED:20251205T151539Z
UID:2459-1768071600-1768082400@blasepisiesta.com
SUMMARY:Southern Exposure
DESCRIPTION:
URL:https://blasepisiesta.com/event/southern-exposure-3/
LOCATION:Blase Cafe\, 5263 Ocean Blvd.\, Sarasota\, FL\, 34242\, United States
CATEGORIES:Music
END:VEVENT
BEGIN:VEVENT
DTSTART;TZID=America/New_York:20260111T190000
DTEND;TZID=America/New_York:20260111T220000
DTSTAMP:20260420T081041
CREATED:20251205T151627Z
LAST-MODIFIED:20251205T151627Z
UID:2461-1768158000-1768168800@blasepisiesta.com
SUMMARY:Jack Berry
DESCRIPTION:
URL:https://blasepisiesta.com/event/jack-berry-4/
LOCATION:Blase Cafe\, 5263 Ocean Blvd.\, Sarasota\, FL\, 34242\, United States
CATEGORIES:Music
END:VEVENT
BEGIN:VEVENT
DTSTART;TZID=America/New_York:20260112T190000
DTEND;TZID=America/New_York:20260112T220000
DTSTAMP:20260420T081041
CREATED:20251205T151705Z
LAST-MODIFIED:20251205T151705Z
UID:2463-1768244400-1768255200@blasepisiesta.com
SUMMARY:Ty Turner
DESCRIPTION:
URL:https://blasepisiesta.com/event/ty-turner-24/
LOCATION:Blase Cafe\, 5263 Ocean Blvd.\, Sarasota\, FL\, 34242\, United States
CATEGORIES:Music
END:VEVENT
BEGIN:VEVENT
DTSTART;TZID=America/New_York:20260113T190000
DTEND;TZID=America/New_York:20260113T220000
DTSTAMP:20260420T081041
CREATED:20251205T151741Z
LAST-MODIFIED:20251205T151741Z
UID:2465-1768330800-1768341600@blasepisiesta.com
SUMMARY:Al Donadi
DESCRIPTION:
URL:https://blasepisiesta.com/event/al-donadi-23/
LOCATION:Blase Cafe\, 5263 Ocean Blvd.\, Sarasota\, FL\, 34242\, United States
CATEGORIES:Music
END:VEVENT
BEGIN:VEVENT
DTSTART;TZID=America/New_York:20260114T190000
DTEND;TZID=America/New_York:20260114T220000
DTSTAMP:20260420T081041
CREATED:20251205T152013Z
LAST-MODIFIED:20251205T152013Z
UID:2467-1768417200-1768428000@blasepisiesta.com
SUMMARY:J Santi
DESCRIPTION:
URL:https://blasepisiesta.com/event/j-santi-9/
LOCATION:Blase Cafe\, 5263 Ocean Blvd.\, Sarasota\, FL\, 34242\, United States
CATEGORIES:Music
END:VEVENT
BEGIN:VEVENT
DTSTART;TZID=America/New_York:20260115T180000
DTEND;TZID=America/New_York:20260115T220000
DTSTAMP:20260420T081041
CREATED:20251205T152120Z
LAST-MODIFIED:20251205T152120Z
UID:2469-1768500000-1768514400@blasepisiesta.com
SUMMARY:Byrd N Moore
DESCRIPTION:
URL:https://blasepisiesta.com/event/byrd-n-moore-36/
LOCATION:Blase Cafe\, 5263 Ocean Blvd.\, Sarasota\, FL\, 34242\, United States
CATEGORIES:Music
END:VEVENT
BEGIN:VEVENT
DTSTART;TZID=America/New_York:20260116T180000
DTEND;TZID=America/New_York:20260116T220000
DTSTAMP:20260420T081041
CREATED:20251205T152224Z
LAST-MODIFIED:20251205T152224Z
UID:2471-1768586400-1768600800@blasepisiesta.com
SUMMARY:Bri Rivera
DESCRIPTION:
URL:https://blasepisiesta.com/event/bri-rivera-3/
LOCATION:Blase Cafe\, 5263 Ocean Blvd.\, Sarasota\, FL\, 34242\, United States
CATEGORIES:Music
END:VEVENT
END:VCALENDAR