BEGIN:VCALENDAR
VERSION:2.0
PRODID:-//Blase Cafe &amp; Pi Pizza &amp; Craft Martini Bar - ECPv6.15.20//NONSGML v1.0//EN
CALSCALE:GREGORIAN
METHOD:PUBLISH
X-WR-CALNAME:Blase Cafe &amp; Pi Pizza &amp; Craft Martini Bar
X-ORIGINAL-URL:https://blasepisiesta.com
X-WR-CALDESC:Events for Blase Cafe &amp; Pi Pizza &amp; Craft Martini Bar
REFRESH-INTERVAL;VALUE=DURATION:PT1H
X-Robots-Tag:noindex
X-PUBLISHED-TTL:PT1H
BEGIN:VTIMEZONE
TZID:America/New_York
BEGIN:DAYLIGHT
TZOFFSETFROM:-0500
TZOFFSETTO:-0400
TZNAME:EDT
DTSTART:20250309T070000
END:DAYLIGHT
BEGIN:STANDARD
TZOFFSETFROM:-0400
TZOFFSETTO:-0500
TZNAME:EST
DTSTART:20251102T060000
END:STANDARD
BEGIN:DAYLIGHT
TZOFFSETFROM:-0500
TZOFFSETTO:-0400
TZNAME:EDT
DTSTART:20260308T070000
END:DAYLIGHT
BEGIN:STANDARD
TZOFFSETFROM:-0400
TZOFFSETTO:-0500
TZNAME:EST
DTSTART:20261101T060000
END:STANDARD
BEGIN:DAYLIGHT
TZOFFSETFROM:-0500
TZOFFSETTO:-0400
TZNAME:EDT
DTSTART:20270314T070000
END:DAYLIGHT
BEGIN:STANDARD
TZOFFSETFROM:-0400
TZOFFSETTO:-0500
TZNAME:EST
DTSTART:20271107T060000
END:STANDARD
END:VTIMEZONE
BEGIN:VEVENT
DTSTART;TZID=America/New_York:20260123T180000
DTEND;TZID=America/New_York:20260123T220000
DTSTAMP:20260420T134031
CREATED:20251205T152900Z
LAST-MODIFIED:20251205T152900Z
UID:2485-1769191200-1769205600@blasepisiesta.com
SUMMARY:Bri Rivera
DESCRIPTION:
URL:https://blasepisiesta.com/event/bri-rivera-4/
LOCATION:Blase Cafe\, 5263 Ocean Blvd.\, Sarasota\, FL\, 34242\, United States
CATEGORIES:Music
END:VEVENT
BEGIN:VEVENT
DTSTART;TZID=America/New_York:20260124T190000
DTEND;TZID=America/New_York:20260124T220000
DTSTAMP:20260420T134031
CREATED:20251205T153017Z
LAST-MODIFIED:20251205T153017Z
UID:2487-1769281200-1769292000@blasepisiesta.com
SUMMARY:Ellipsis Band
DESCRIPTION:
URL:https://blasepisiesta.com/event/ellipsis-band-6/
LOCATION:Blase Cafe\, 5263 Ocean Blvd.\, Sarasota\, FL\, 34242\, United States
CATEGORIES:Music
END:VEVENT
BEGIN:VEVENT
DTSTART;TZID=America/New_York:20260125T190000
DTEND;TZID=America/New_York:20260125T220000
DTSTAMP:20260420T134031
CREATED:20251205T153105Z
LAST-MODIFIED:20251205T153105Z
UID:2489-1769367600-1769378400@blasepisiesta.com
SUMMARY:Jack Berry
DESCRIPTION:
URL:https://blasepisiesta.com/event/jack-berry-5/
LOCATION:Blase Cafe\, 5263 Ocean Blvd.\, Sarasota\, FL\, 34242\, United States
CATEGORIES:Music
END:VEVENT
BEGIN:VEVENT
DTSTART;TZID=America/New_York:20260126T190000
DTEND;TZID=America/New_York:20260126T220000
DTSTAMP:20260420T134031
CREATED:20251205T153207Z
LAST-MODIFIED:20251205T153207Z
UID:2491-1769454000-1769464800@blasepisiesta.com
SUMMARY:Joe Bernui
DESCRIPTION:
URL:https://blasepisiesta.com/event/joe-bernui-8/
LOCATION:Blase Cafe\, 5263 Ocean Blvd.\, Sarasota\, FL\, 34242\, United States
CATEGORIES:Music
END:VEVENT
BEGIN:VEVENT
DTSTART;TZID=America/New_York:20260127T190000
DTEND;TZID=America/New_York:20260127T220000
DTSTAMP:20260420T134031
CREATED:20251205T153259Z
LAST-MODIFIED:20251205T153259Z
UID:2493-1769540400-1769551200@blasepisiesta.com
SUMMARY:Chris Connolly
DESCRIPTION:
URL:https://blasepisiesta.com/event/chris-connolly-12/
LOCATION:Blase Cafe\, 5263 Ocean Blvd.\, Sarasota\, FL\, 34242\, United States
CATEGORIES:Music
END:VEVENT
BEGIN:VEVENT
DTSTART;TZID=America/New_York:20260128T190000
DTEND;TZID=America/New_York:20260128T220000
DTSTAMP:20260420T134031
CREATED:20251205T153352Z
LAST-MODIFIED:20251205T153352Z
UID:2495-1769626800-1769637600@blasepisiesta.com
SUMMARY:J Santi
DESCRIPTION:
URL:https://blasepisiesta.com/event/j-santi-10/
LOCATION:Blase Cafe\, 5263 Ocean Blvd.\, Sarasota\, FL\, 34242\, United States
CATEGORIES:Music
END:VEVENT
BEGIN:VEVENT
DTSTART;TZID=America/New_York:20260129T180000
DTEND;TZID=America/New_York:20260129T220000
DTSTAMP:20260420T134031
CREATED:20251205T153453Z
LAST-MODIFIED:20251205T153453Z
UID:2497-1769709600-1769724000@blasepisiesta.com
SUMMARY:Byrd N Moore
DESCRIPTION:
URL:https://blasepisiesta.com/event/byrd-n-moore-38/
LOCATION:Blase Cafe\, 5263 Ocean Blvd.\, Sarasota\, FL\, 34242\, United States
CATEGORIES:Music
END:VEVENT
BEGIN:VEVENT
DTSTART;TZID=America/New_York:20260130T180000
DTEND;TZID=America/New_York:20260130T223000
DTSTAMP:20260420T134031
CREATED:20251205T153535Z
LAST-MODIFIED:20251205T153535Z
UID:2499-1769796000-1769812200@blasepisiesta.com
SUMMARY:Bri Rivera
DESCRIPTION:
URL:https://blasepisiesta.com/event/bri-rivera-5/
LOCATION:Blase Cafe\, 5263 Ocean Blvd.\, Sarasota\, FL\, 34242\, United States
CATEGORIES:Music
END:VEVENT
BEGIN:VEVENT
DTSTART;TZID=America/New_York:20260131T190000
DTEND;TZID=America/New_York:20260131T220000
DTSTAMP:20260420T134031
CREATED:20251205T153623Z
LAST-MODIFIED:20251205T153623Z
UID:2501-1769886000-1769896800@blasepisiesta.com
SUMMARY:Al Donadi Band
DESCRIPTION:
URL:https://blasepisiesta.com/event/al-donadi-band-5/
LOCATION:Blase Cafe\, 5263 Ocean Blvd.\, Sarasota\, FL\, 34242\, United States
CATEGORIES:Music
END:VEVENT
BEGIN:VEVENT
DTSTART;TZID=America/New_York:20260201T190000
DTEND;TZID=America/New_York:20260201T220000
DTSTAMP:20260420T134031
CREATED:20260112T173518Z
LAST-MODIFIED:20260112T173518Z
UID:2523-1769972400-1769983200@blasepisiesta.com
SUMMARY:Miranda Becker
DESCRIPTION:
URL:https://blasepisiesta.com/event/miranda-becker-14/
LOCATION:Blase Cafe\, 5263 Ocean Blvd.\, Sarasota\, FL\, 34242\, United States
CATEGORIES:Music
END:VEVENT
BEGIN:VEVENT
DTSTART;TZID=America/New_York:20260202T190000
DTEND;TZID=America/New_York:20260202T220000
DTSTAMP:20260420T134031
CREATED:20260112T173625Z
LAST-MODIFIED:20260112T173625Z
UID:2525-1770058800-1770069600@blasepisiesta.com
SUMMARY:Kenny & The Commotion
DESCRIPTION:
URL:https://blasepisiesta.com/event/kenny-the-commotion/
LOCATION:Blase Cafe\, 5263 Ocean Blvd.\, Sarasota\, FL\, 34242\, United States
CATEGORIES:Music
END:VEVENT
BEGIN:VEVENT
DTSTART;TZID=America/New_York:20260203T190000
DTEND;TZID=America/New_York:20260203T220000
DTSTAMP:20260420T134031
CREATED:20260112T173709Z
LAST-MODIFIED:20260112T173709Z
UID:2527-1770145200-1770156000@blasepisiesta.com
SUMMARY:Al Donadi
DESCRIPTION:
URL:https://blasepisiesta.com/event/al-donadi-25/
LOCATION:Blase Cafe\, 5263 Ocean Blvd.\, Sarasota\, FL\, 34242\, United States
CATEGORIES:Music
END:VEVENT
BEGIN:VEVENT
DTSTART;TZID=America/New_York:20260204T190000
DTEND;TZID=America/New_York:20260204T220000
DTSTAMP:20260420T134031
CREATED:20260112T173803Z
LAST-MODIFIED:20260112T173803Z
UID:2529-1770231600-1770242400@blasepisiesta.com
SUMMARY:Kindred & Katie
DESCRIPTION:
URL:https://blasepisiesta.com/event/kindred-katie/
LOCATION:Blase Cafe\, 5263 Ocean Blvd.\, Sarasota\, FL\, 34242\, United States
CATEGORIES:Music
END:VEVENT
BEGIN:VEVENT
DTSTART;TZID=America/New_York:20260205T180000
DTEND;TZID=America/New_York:20260205T220000
DTSTAMP:20260420T134031
CREATED:20260112T184837Z
LAST-MODIFIED:20260112T184837Z
UID:2531-1770314400-1770328800@blasepisiesta.com
SUMMARY:Byrd N Moore
DESCRIPTION:
URL:https://blasepisiesta.com/event/byrd-n-moore-39/
LOCATION:Blase Cafe\, 5263 Ocean Blvd.\, Sarasota\, FL\, 34242\, United States
CATEGORIES:Music
END:VEVENT
BEGIN:VEVENT
DTSTART;TZID=America/New_York:20260206T180000
DTEND;TZID=America/New_York:20260206T220000
DTSTAMP:20260420T134031
CREATED:20260112T185003Z
LAST-MODIFIED:20260112T190454Z
UID:2533-1770400800-1770415200@blasepisiesta.com
SUMMARY:Bri Rivera Band
DESCRIPTION:
URL:https://blasepisiesta.com/event/bri-rivera-band-9/
LOCATION:Blase Cafe\, 5263 Ocean Blvd.\, Sarasota\, FL\, 34242\, United States
CATEGORIES:Music
END:VEVENT
BEGIN:VEVENT
DTSTART;TZID=America/New_York:20260207T190000
DTEND;TZID=America/New_York:20260207T220000
DTSTAMP:20260420T134031
CREATED:20260112T185048Z
LAST-MODIFIED:20260112T190417Z
UID:2535-1770490800-1770501600@blasepisiesta.com
SUMMARY:J Santi & The Vital Groove
DESCRIPTION:
URL:https://blasepisiesta.com/event/j-santi-the-vital-groove-9/
LOCATION:Blase Cafe\, 5263 Ocean Blvd.\, Sarasota\, FL\, 34242\, United States
CATEGORIES:Music
END:VEVENT
BEGIN:VEVENT
DTSTART;TZID=America/New_York:20260208T190000
DTEND;TZID=America/New_York:20260208T220000
DTSTAMP:20260420T134031
CREATED:20260112T185131Z
LAST-MODIFIED:20260112T185131Z
UID:2537-1770577200-1770588000@blasepisiesta.com
SUMMARY:Jack Berry
DESCRIPTION:
URL:https://blasepisiesta.com/event/jack-berry-6/
LOCATION:Blase Cafe\, 5263 Ocean Blvd.\, Sarasota\, FL\, 34242\, United States
CATEGORIES:Music
END:VEVENT
BEGIN:VEVENT
DTSTART;TZID=America/New_York:20260209T190000
DTEND;TZID=America/New_York:20260209T220000
DTSTAMP:20260420T134031
CREATED:20260112T185213Z
LAST-MODIFIED:20260112T185213Z
UID:2539-1770663600-1770674400@blasepisiesta.com
SUMMARY:Joe Bernui
DESCRIPTION:
URL:https://blasepisiesta.com/event/joe-bernui-9/
LOCATION:Blase Cafe\, 5263 Ocean Blvd.\, Sarasota\, FL\, 34242\, United States
CATEGORIES:Music
END:VEVENT
BEGIN:VEVENT
DTSTART;TZID=America/New_York:20260210T190000
DTEND;TZID=America/New_York:20260210T220000
DTSTAMP:20260420T134031
CREATED:20260112T185252Z
LAST-MODIFIED:20260112T185252Z
UID:2541-1770750000-1770760800@blasepisiesta.com
SUMMARY:Al Donadi
DESCRIPTION:
URL:https://blasepisiesta.com/event/al-donadi-26/
LOCATION:Blase Cafe\, 5263 Ocean Blvd.\, Sarasota\, FL\, 34242\, United States
CATEGORIES:Music
END:VEVENT
BEGIN:VEVENT
DTSTART;TZID=America/New_York:20260211T190000
DTEND;TZID=America/New_York:20260211T220000
DTSTAMP:20260420T134031
CREATED:20260112T185514Z
LAST-MODIFIED:20260112T185514Z
UID:2543-1770836400-1770847200@blasepisiesta.com
SUMMARY:J Santi Solo
DESCRIPTION:
URL:https://blasepisiesta.com/event/j-santi-solo-2/
LOCATION:Blase Cafe\, 5263 Ocean Blvd.\, Sarasota\, FL\, 34242\, United States
CATEGORIES:Music
END:VEVENT
BEGIN:VEVENT
DTSTART;TZID=America/New_York:20260212T180000
DTEND;TZID=America/New_York:20260212T220000
DTSTAMP:20260420T134031
CREATED:20260112T185822Z
LAST-MODIFIED:20260112T185822Z
UID:2545-1770919200-1770933600@blasepisiesta.com
SUMMARY:Byrd N Moore
DESCRIPTION:
URL:https://blasepisiesta.com/event/byrd-n-moore-40/
LOCATION:Blase Cafe\, 5263 Ocean Blvd.\, Sarasota\, FL\, 34242\, United States
CATEGORIES:Music
END:VEVENT
BEGIN:VEVENT
DTSTART;TZID=America/New_York:20260213T180000
DTEND;TZID=America/New_York:20260213T220000
DTSTAMP:20260420T134031
CREATED:20260112T185906Z
LAST-MODIFIED:20260112T185906Z
UID:2547-1771005600-1771020000@blasepisiesta.com
SUMMARY:Bri Rivera Band
DESCRIPTION:
URL:https://blasepisiesta.com/event/bri-rivera-band-10/
LOCATION:Blase Cafe\, 5263 Ocean Blvd.\, Sarasota\, FL\, 34242\, United States
CATEGORIES:Music
END:VEVENT
BEGIN:VEVENT
DTSTART;TZID=America/New_York:20260214T190000
DTEND;TZID=America/New_York:20260214T220000
DTSTAMP:20260420T134031
CREATED:20260112T185947Z
LAST-MODIFIED:20260112T185947Z
UID:2549-1771095600-1771106400@blasepisiesta.com
SUMMARY:Ellipsis Band
DESCRIPTION:
URL:https://blasepisiesta.com/event/ellipsis-band-7/
LOCATION:Blase Cafe\, 5263 Ocean Blvd.\, Sarasota\, FL\, 34242\, United States
CATEGORIES:Music
END:VEVENT
BEGIN:VEVENT
DTSTART;TZID=America/New_York:20260215T190000
DTEND;TZID=America/New_York:20260215T220000
DTSTAMP:20260420T134031
CREATED:20260112T190025Z
LAST-MODIFIED:20260112T190025Z
UID:2551-1771182000-1771192800@blasepisiesta.com
SUMMARY:Miranda Becker
DESCRIPTION:
URL:https://blasepisiesta.com/event/miranda-becker-15/
LOCATION:Blase Cafe\, 5263 Ocean Blvd.\, Sarasota\, FL\, 34242\, United States
CATEGORIES:Music
END:VEVENT
BEGIN:VEVENT
DTSTART;TZID=America/New_York:20260216T190000
DTEND;TZID=America/New_York:20260216T220000
DTSTAMP:20260420T134031
CREATED:20260112T190107Z
LAST-MODIFIED:20260112T190107Z
UID:2553-1771268400-1771279200@blasepisiesta.com
SUMMARY:Ty Turner
DESCRIPTION:
URL:https://blasepisiesta.com/event/ty-turner-26/
LOCATION:Blase Cafe\, 5263 Ocean Blvd.\, Sarasota\, FL\, 34242\, United States
CATEGORIES:Music
END:VEVENT
BEGIN:VEVENT
DTSTART;TZID=America/New_York:20260216T190000
DTEND;TZID=America/New_York:20260216T220000
DTSTAMP:20260420T134031
CREATED:20260216T190417Z
LAST-MODIFIED:20260216T190417Z
UID:2679-1771268400-1771279200@blasepisiesta.com
SUMMARY:Al Donadi
DESCRIPTION:
URL:https://blasepisiesta.com/event/al-donadi-29/
LOCATION:Blase Cafe\, 5263 Ocean Blvd.\, Sarasota\, FL\, 34242\, United States
CATEGORIES:Music
END:VEVENT
BEGIN:VEVENT
DTSTART;TZID=America/New_York:20260217T190000
DTEND;TZID=America/New_York:20260217T220000
DTSTAMP:20260420T134031
CREATED:20260112T190904Z
LAST-MODIFIED:20260112T190951Z
UID:2556-1771354800-1771365600@blasepisiesta.com
SUMMARY:Al Donadi
DESCRIPTION:
URL:https://blasepisiesta.com/event/al-donadi-27/
LOCATION:Blase Cafe\, 5263 Ocean Blvd.\, Sarasota\, FL\, 34242\, United States
CATEGORIES:Music
END:VEVENT
BEGIN:VEVENT
DTSTART;TZID=America/New_York:20260218T190000
DTEND;TZID=America/New_York:20260218T220000
DTSTAMP:20260420T134031
CREATED:20260112T191207Z
LAST-MODIFIED:20260112T191207Z
UID:2558-1771441200-1771452000@blasepisiesta.com
SUMMARY:Bobby Schneck
DESCRIPTION:
URL:https://blasepisiesta.com/event/bobby-schneck-6/
LOCATION:Blase Cafe\, 5263 Ocean Blvd.\, Sarasota\, FL\, 34242\, United States
CATEGORIES:Music
END:VEVENT
BEGIN:VEVENT
DTSTART;TZID=America/New_York:20260219T180000
DTEND;TZID=America/New_York:20260219T220000
DTSTAMP:20260420T134031
CREATED:20260112T191403Z
LAST-MODIFIED:20260112T191403Z
UID:2560-1771524000-1771538400@blasepisiesta.com
SUMMARY:Byrd N Moore
DESCRIPTION:
URL:https://blasepisiesta.com/event/byrd-n-moore-41/
LOCATION:Blase Cafe\, 5263 Ocean Blvd.\, Sarasota\, FL\, 34242\, United States
CATEGORIES:Music
END:VEVENT
BEGIN:VEVENT
DTSTART;TZID=America/New_York:20260220T180000
DTEND;TZID=America/New_York:20260220T220000
DTSTAMP:20260420T134031
CREATED:20260112T191459Z
LAST-MODIFIED:20260112T191459Z
UID:2562-1771610400-1771624800@blasepisiesta.com
SUMMARY:Bri Rivera Band
DESCRIPTION:
URL:https://blasepisiesta.com/event/bri-rivera-band-11/
LOCATION:Blase Cafe\, 5263 Ocean Blvd.\, Sarasota\, FL\, 34242\, United States
CATEGORIES:Music
END:VEVENT
END:VCALENDAR