BEGIN:VCALENDAR
VERSION:2.0
PRODID:-//Blase Cafe &amp; Pi Pizza &amp; Craft Martini Bar - ECPv6.15.20//NONSGML v1.0//EN
CALSCALE:GREGORIAN
METHOD:PUBLISH
X-WR-CALNAME:Blase Cafe &amp; Pi Pizza &amp; Craft Martini Bar
X-ORIGINAL-URL:https://blasepisiesta.com
X-WR-CALDESC:Events for Blase Cafe &amp; Pi Pizza &amp; Craft Martini Bar
REFRESH-INTERVAL;VALUE=DURATION:PT1H
X-Robots-Tag:noindex
X-PUBLISHED-TTL:PT1H
BEGIN:VTIMEZONE
TZID:America/New_York
BEGIN:DAYLIGHT
TZOFFSETFROM:-0500
TZOFFSETTO:-0400
TZNAME:EDT
DTSTART:20240310T070000
END:DAYLIGHT
BEGIN:STANDARD
TZOFFSETFROM:-0400
TZOFFSETTO:-0500
TZNAME:EST
DTSTART:20241103T060000
END:STANDARD
BEGIN:DAYLIGHT
TZOFFSETFROM:-0500
TZOFFSETTO:-0400
TZNAME:EDT
DTSTART:20250309T070000
END:DAYLIGHT
BEGIN:STANDARD
TZOFFSETFROM:-0400
TZOFFSETTO:-0500
TZNAME:EST
DTSTART:20251102T060000
END:STANDARD
BEGIN:DAYLIGHT
TZOFFSETFROM:-0500
TZOFFSETTO:-0400
TZNAME:EDT
DTSTART:20260308T070000
END:DAYLIGHT
BEGIN:STANDARD
TZOFFSETFROM:-0400
TZOFFSETTO:-0500
TZNAME:EST
DTSTART:20261101T060000
END:STANDARD
END:VTIMEZONE
BEGIN:VEVENT
DTSTART;TZID=America/New_York:20250702T190000
DTEND;TZID=America/New_York:20250702T220000
DTSTAMP:20260419T112746
CREATED:20250605T170315Z
LAST-MODIFIED:20250605T170315Z
UID:1873-1751482800-1751493600@blasepisiesta.com
SUMMARY:Miranda Becker Duo
DESCRIPTION:
URL:https://blasepisiesta.com/event/miranda-becker-duo/
LOCATION:Blase Cafe\, 5263 Ocean Blvd.\, Sarasota\, FL\, 34242\, United States
CATEGORIES:Music
END:VEVENT
BEGIN:VEVENT
DTSTART;TZID=America/New_York:20250701T190000
DTEND;TZID=America/New_York:20250701T220000
DTSTAMP:20260419T112746
CREATED:20250605T170201Z
LAST-MODIFIED:20250605T170207Z
UID:1871-1751396400-1751407200@blasepisiesta.com
SUMMARY:Ty Turner
DESCRIPTION:
URL:https://blasepisiesta.com/event/ty-turner-3/
LOCATION:Blase Cafe\, 5263 Ocean Blvd.\, Sarasota\, FL\, 34242\, United States
CATEGORIES:Music
END:VEVENT
BEGIN:VEVENT
DTSTART;TZID=America/New_York:20250630T190000
DTEND;TZID=America/New_York:20250630T220000
DTSTAMP:20260419T112746
CREATED:20250512T172327Z
LAST-MODIFIED:20250512T174043Z
UID:1796-1751310000-1751320800@blasepisiesta.com
SUMMARY:Chris Connolly
DESCRIPTION:
URL:https://blasepisiesta.com/event/chris-connolly-6/
LOCATION:Blase Cafe\, 5263 Ocean Blvd.\, Sarasota\, FL\, 34242\, United States
CATEGORIES:Music
END:VEVENT
BEGIN:VEVENT
DTSTART;TZID=America/New_York:20250629T190000
DTEND;TZID=America/New_York:20250629T220000
DTSTAMP:20260419T112746
CREATED:20250512T172227Z
LAST-MODIFIED:20250512T174057Z
UID:1794-1751223600-1751234400@blasepisiesta.com
SUMMARY:Vince & Steve
DESCRIPTION:
URL:https://blasepisiesta.com/event/vince-steve-3/
LOCATION:Blase Cafe\, 5263 Ocean Blvd.\, Sarasota\, FL\, 34242\, United States
CATEGORIES:Music
END:VEVENT
BEGIN:VEVENT
DTSTART;TZID=America/New_York:20250628T180000
DTEND;TZID=America/New_York:20250628T220000
DTSTAMP:20260419T112746
CREATED:20250512T172136Z
LAST-MODIFIED:20250512T174112Z
UID:1792-1751133600-1751148000@blasepisiesta.com
SUMMARY:Bri Rivera Band
DESCRIPTION:
URL:https://blasepisiesta.com/event/bri-rivera-band-2/
LOCATION:Blase Cafe\, 5263 Ocean Blvd.\, Sarasota\, FL\, 34242\, United States
CATEGORIES:Music
END:VEVENT
BEGIN:VEVENT
DTSTART;TZID=America/New_York:20250627T190000
DTEND;TZID=America/New_York:20250627T220000
DTSTAMP:20260419T112746
CREATED:20250512T172034Z
LAST-MODIFIED:20250512T174140Z
UID:1790-1751050800-1751061600@blasepisiesta.com
SUMMARY:Garbage Men
DESCRIPTION:
URL:https://blasepisiesta.com/event/garbage-men-2/
LOCATION:Blase Cafe\, 5263 Ocean Blvd.\, Sarasota\, FL\, 34242\, United States
CATEGORIES:Music
END:VEVENT
BEGIN:VEVENT
DTSTART;TZID=America/New_York:20250626T180000
DTEND;TZID=America/New_York:20250626T220000
DTSTAMP:20260419T112746
CREATED:20250512T171944Z
LAST-MODIFIED:20250512T174152Z
UID:1788-1750960800-1750975200@blasepisiesta.com
SUMMARY:Byrd N Moore
DESCRIPTION:
URL:https://blasepisiesta.com/event/byrd-n-moore-9/
LOCATION:Blase Cafe\, 5263 Ocean Blvd.\, Sarasota\, FL\, 34242\, United States
CATEGORIES:Music
END:VEVENT
BEGIN:VEVENT
DTSTART;TZID=America/New_York:20250625T190000
DTEND;TZID=America/New_York:20250625T220000
DTSTAMP:20260419T112746
CREATED:20250512T171834Z
LAST-MODIFIED:20250512T174206Z
UID:1786-1750878000-1750888800@blasepisiesta.com
SUMMARY:UNDR8ED Duo
DESCRIPTION:
URL:https://blasepisiesta.com/event/undr8ed-duo-6/
LOCATION:Blase Cafe\, 5263 Ocean Blvd.\, Sarasota\, FL\, 34242\, United States
CATEGORIES:Music
END:VEVENT
BEGIN:VEVENT
DTSTART;TZID=America/New_York:20250624T190000
DTEND;TZID=America/New_York:20250624T220000
DTSTAMP:20260419T112746
CREATED:20250512T171706Z
LAST-MODIFIED:20250512T174220Z
UID:1784-1750791600-1750802400@blasepisiesta.com
SUMMARY:J Santi
DESCRIPTION:
URL:https://blasepisiesta.com/event/j-santi-2/
LOCATION:Blase Cafe\, 5263 Ocean Blvd.\, Sarasota\, FL\, 34242\, United States
CATEGORIES:Music
END:VEVENT
BEGIN:VEVENT
DTSTART;TZID=America/New_York:20250623T190000
DTEND;TZID=America/New_York:20250623T220000
DTSTAMP:20260419T112746
CREATED:20250512T171610Z
LAST-MODIFIED:20250512T174234Z
UID:1782-1750705200-1750716000@blasepisiesta.com
SUMMARY:Miranda Becker
DESCRIPTION:
URL:https://blasepisiesta.com/event/miranda-becker-3/
LOCATION:Blase Cafe\, 5263 Ocean Blvd.\, Sarasota\, FL\, 34242\, United States
CATEGORIES:Music
END:VEVENT
BEGIN:VEVENT
DTSTART;TZID=America/New_York:20250622T190000
DTEND;TZID=America/New_York:20250622T220000
DTSTAMP:20260419T112746
CREATED:20250512T171516Z
LAST-MODIFIED:20250512T174249Z
UID:1780-1750618800-1750629600@blasepisiesta.com
SUMMARY:Chris Otto
DESCRIPTION:
URL:https://blasepisiesta.com/event/chris-otto-4/
LOCATION:Blase Cafe\, 5263 Ocean Blvd.\, Sarasota\, FL\, 34242\, United States
CATEGORIES:Music
END:VEVENT
BEGIN:VEVENT
DTSTART;TZID=America/New_York:20250621T190000
DTEND;TZID=America/New_York:20250621T220000
DTSTAMP:20260419T112746
CREATED:20250512T171428Z
LAST-MODIFIED:20250512T174306Z
UID:1778-1750532400-1750543200@blasepisiesta.com
SUMMARY:Chris Connolly Band
DESCRIPTION:
URL:https://blasepisiesta.com/event/chris-connolly-band/
LOCATION:Blase Cafe\, 5263 Ocean Blvd.\, Sarasota\, FL\, 34242\, United States
CATEGORIES:Music
END:VEVENT
BEGIN:VEVENT
DTSTART;TZID=America/New_York:20250620T190000
DTEND;TZID=America/New_York:20250620T220000
DTSTAMP:20260419T112746
CREATED:20250512T171313Z
LAST-MODIFIED:20250512T174322Z
UID:1776-1750446000-1750456800@blasepisiesta.com
SUMMARY:Billy Lyon Band
DESCRIPTION:
URL:https://blasepisiesta.com/event/billy-lyon-band-3/
LOCATION:Blase Cafe\, 5263 Ocean Blvd.\, Sarasota\, FL\, 34242\, United States
CATEGORIES:Music
END:VEVENT
BEGIN:VEVENT
DTSTART;TZID=America/New_York:20250619T180000
DTEND;TZID=America/New_York:20250619T220000
DTSTAMP:20260419T112746
CREATED:20250512T171222Z
LAST-MODIFIED:20250512T174340Z
UID:1774-1750356000-1750370400@blasepisiesta.com
SUMMARY:Byrd N Moore
DESCRIPTION:
URL:https://blasepisiesta.com/event/byrd-n-moore-8/
LOCATION:Blase Cafe\, 5263 Ocean Blvd.\, Sarasota\, FL\, 34242\, United States
CATEGORIES:Music
END:VEVENT
BEGIN:VEVENT
DTSTART;TZID=America/New_York:20250618T190000
DTEND;TZID=America/New_York:20250618T220000
DTSTAMP:20260419T112746
CREATED:20250512T171102Z
LAST-MODIFIED:20250512T174433Z
UID:1772-1750273200-1750284000@blasepisiesta.com
SUMMARY:Ty Turner
DESCRIPTION:
URL:https://blasepisiesta.com/event/ty-turner-2/
LOCATION:Blase Cafe\, 5263 Ocean Blvd.\, Sarasota\, FL\, 34242\, United States
CATEGORIES:Music
END:VEVENT
BEGIN:VEVENT
DTSTART;TZID=America/New_York:20250617T190000
DTEND;TZID=America/New_York:20250617T220000
DTSTAMP:20260419T112746
CREATED:20250512T171024Z
LAST-MODIFIED:20250512T174509Z
UID:1770-1750186800-1750197600@blasepisiesta.com
SUMMARY:Daniel Guanchez
DESCRIPTION:
URL:https://blasepisiesta.com/event/daniel-guanchez/
LOCATION:Blase Cafe\, 5263 Ocean Blvd.\, Sarasota\, FL\, 34242\, United States
CATEGORIES:Music
END:VEVENT
BEGIN:VEVENT
DTSTART;TZID=America/New_York:20250616T190000
DTEND;TZID=America/New_York:20250616T220000
DTSTAMP:20260419T112746
CREATED:20250512T170945Z
LAST-MODIFIED:20250512T174523Z
UID:1768-1750100400-1750111200@blasepisiesta.com
SUMMARY:Chris Connolly
DESCRIPTION:
URL:https://blasepisiesta.com/event/chris-connolly-5/
LOCATION:Blase Cafe\, 5263 Ocean Blvd.\, Sarasota\, FL\, 34242\, United States
CATEGORIES:Music
END:VEVENT
BEGIN:VEVENT
DTSTART;TZID=America/New_York:20250615T190000
DTEND;TZID=America/New_York:20250615T220000
DTSTAMP:20260419T112746
CREATED:20250512T170851Z
LAST-MODIFIED:20250512T174538Z
UID:1766-1750014000-1750024800@blasepisiesta.com
SUMMARY:Chris Otto
DESCRIPTION:
URL:https://blasepisiesta.com/event/chris-otto-3/
LOCATION:Blase Cafe\, 5263 Ocean Blvd.\, Sarasota\, FL\, 34242\, United States
CATEGORIES:Music
END:VEVENT
BEGIN:VEVENT
DTSTART;TZID=America/New_York:20250614T190000
DTEND;TZID=America/New_York:20250614T220000
DTSTAMP:20260419T112746
CREATED:20250512T170800Z
LAST-MODIFIED:20250512T174558Z
UID:1764-1749927600-1749938400@blasepisiesta.com
SUMMARY:UNDR8ED Band
DESCRIPTION:
URL:https://blasepisiesta.com/event/undr8ed-band-3/
LOCATION:Blase Cafe\, 5263 Ocean Blvd.\, Sarasota\, FL\, 34242\, United States
CATEGORIES:Music
END:VEVENT
BEGIN:VEVENT
DTSTART;TZID=America/New_York:20250613T190000
DTEND;TZID=America/New_York:20250613T220000
DTSTAMP:20260419T112746
CREATED:20250512T170721Z
LAST-MODIFIED:20250512T174613Z
UID:1762-1749841200-1749852000@blasepisiesta.com
SUMMARY:The Monsoons
DESCRIPTION:
URL:https://blasepisiesta.com/event/the-monsoons-3/
LOCATION:Blase Cafe\, 5263 Ocean Blvd.\, Sarasota\, FL\, 34242\, United States
CATEGORIES:Music
END:VEVENT
BEGIN:VEVENT
DTSTART;TZID=America/New_York:20250612T180000
DTEND;TZID=America/New_York:20250612T220000
DTSTAMP:20260419T112746
CREATED:20250512T170641Z
LAST-MODIFIED:20250512T174626Z
UID:1760-1749751200-1749765600@blasepisiesta.com
SUMMARY:Byrd N Moore
DESCRIPTION:
URL:https://blasepisiesta.com/event/byrd-n-moore-7/
LOCATION:Blase Cafe\, 5263 Ocean Blvd.\, Sarasota\, FL\, 34242\, United States
CATEGORIES:Music
END:VEVENT
BEGIN:VEVENT
DTSTART;TZID=America/New_York:20250611T190000
DTEND;TZID=America/New_York:20250611T220000
DTSTAMP:20260419T112746
CREATED:20250512T170559Z
LAST-MODIFIED:20250512T174642Z
UID:1758-1749668400-1749679200@blasepisiesta.com
SUMMARY:UNDR8ED  Duo
DESCRIPTION:
URL:https://blasepisiesta.com/event/undr8ed-duo-5/
LOCATION:Blase Cafe\, 5263 Ocean Blvd.\, Sarasota\, FL\, 34242\, United States
CATEGORIES:Music
END:VEVENT
BEGIN:VEVENT
DTSTART;TZID=America/New_York:20250610T190000
DTEND;TZID=America/New_York:20250610T220000
DTSTAMP:20260419T112746
CREATED:20250512T170349Z
LAST-MODIFIED:20250512T174704Z
UID:1755-1749582000-1749592800@blasepisiesta.com
SUMMARY:Chris Connolly
DESCRIPTION:
URL:https://blasepisiesta.com/event/chris-connolly-4/
LOCATION:Blase Cafe\, 5263 Ocean Blvd.\, Sarasota\, FL\, 34242\, United States
CATEGORIES:Music
END:VEVENT
BEGIN:VEVENT
DTSTART;TZID=America/New_York:20250609T190000
DTEND;TZID=America/New_York:20250609T220000
DTSTAMP:20260419T112746
CREATED:20250512T170046Z
LAST-MODIFIED:20250512T174720Z
UID:1753-1749495600-1749506400@blasepisiesta.com
SUMMARY:Ty Tuner
DESCRIPTION:
URL:https://blasepisiesta.com/event/ty-tuner-2/
LOCATION:Blase Cafe\, 5263 Ocean Blvd.\, Sarasota\, FL\, 34242\, United States
CATEGORIES:Music
END:VEVENT
BEGIN:VEVENT
DTSTART;TZID=America/New_York:20250608T190000
DTEND;TZID=America/New_York:20250608T220000
DTSTAMP:20260419T112746
CREATED:20250512T165957Z
LAST-MODIFIED:20250512T174743Z
UID:1751-1749409200-1749420000@blasepisiesta.com
SUMMARY:Miranda Becker
DESCRIPTION:
URL:https://blasepisiesta.com/event/miranda-becker-2/
LOCATION:Blase Cafe\, 5263 Ocean Blvd.\, Sarasota\, FL\, 34242\, United States
CATEGORIES:Music
END:VEVENT
BEGIN:VEVENT
DTSTART;TZID=America/New_York:20250607T190000
DTEND;TZID=America/New_York:20250607T220000
DTSTAMP:20260419T112746
CREATED:20250512T165901Z
LAST-MODIFIED:20250512T174801Z
UID:1749-1749322800-1749333600@blasepisiesta.com
SUMMARY:J Santi & Vital Groove
DESCRIPTION:
URL:https://blasepisiesta.com/event/j-santi-vital-groove-2/
LOCATION:Blase Cafe\, 5263 Ocean Blvd.\, Sarasota\, FL\, 34242\, United States
CATEGORIES:Music
END:VEVENT
BEGIN:VEVENT
DTSTART;TZID=America/New_York:20250606T190000
DTEND;TZID=America/New_York:20250606T220000
DTSTAMP:20260419T112746
CREATED:20250512T165750Z
LAST-MODIFIED:20250512T174824Z
UID:1747-1749236400-1749247200@blasepisiesta.com
SUMMARY:UNDR8ED Band
DESCRIPTION:
URL:https://blasepisiesta.com/event/undr8ed-band-2/
LOCATION:Blase Cafe\, 5263 Ocean Blvd.\, Sarasota\, FL\, 34242\, United States
CATEGORIES:Music
END:VEVENT
BEGIN:VEVENT
DTSTART;TZID=America/New_York:20250605T180000
DTEND;TZID=America/New_York:20250605T220000
DTSTAMP:20260419T112746
CREATED:20250512T165646Z
LAST-MODIFIED:20250512T174840Z
UID:1745-1749146400-1749160800@blasepisiesta.com
SUMMARY:Byrd N Moore
DESCRIPTION:
URL:https://blasepisiesta.com/event/byrd-n-moore-6/
LOCATION:Blase Cafe\, 5263 Ocean Blvd.\, Sarasota\, FL\, 34242\, United States
CATEGORIES:Music
END:VEVENT
BEGIN:VEVENT
DTSTART;TZID=America/New_York:20250604T190000
DTEND;TZID=America/New_York:20250604T220000
DTSTAMP:20260419T112746
CREATED:20250512T165540Z
LAST-MODIFIED:20250512T174859Z
UID:1743-1749063600-1749074400@blasepisiesta.com
SUMMARY:UNDR8ED  Duo
DESCRIPTION:
URL:https://blasepisiesta.com/event/undr8ed-duo-4/
LOCATION:Blase Cafe\, 5263 Ocean Blvd.\, Sarasota\, FL\, 34242\, United States
CATEGORIES:Music
END:VEVENT
BEGIN:VEVENT
DTSTART;TZID=America/New_York:20250603T190000
DTEND;TZID=America/New_York:20250603T220000
DTSTAMP:20260419T112746
CREATED:20250512T165343Z
LAST-MODIFIED:20250512T174924Z
UID:1741-1748977200-1748988000@blasepisiesta.com
SUMMARY:Ty Tuner
DESCRIPTION:
URL:https://blasepisiesta.com/event/ty-tuner/
LOCATION:Blase Cafe\, 5263 Ocean Blvd.\, Sarasota\, FL\, 34242\, United States
CATEGORIES:Music
END:VEVENT
END:VCALENDAR