BEGIN:VCALENDAR
VERSION:2.0
PRODID:-//Blase Cafe &amp; Pi Pizza &amp; Craft Martini Bar - ECPv6.15.20//NONSGML v1.0//EN
CALSCALE:GREGORIAN
METHOD:PUBLISH
X-WR-CALNAME:Blase Cafe &amp; Pi Pizza &amp; Craft Martini Bar
X-ORIGINAL-URL:https://blasepisiesta.com
X-WR-CALDESC:Events for Blase Cafe &amp; Pi Pizza &amp; Craft Martini Bar
REFRESH-INTERVAL;VALUE=DURATION:PT1H
X-Robots-Tag:noindex
X-PUBLISHED-TTL:PT1H
BEGIN:VTIMEZONE
TZID:America/New_York
BEGIN:DAYLIGHT
TZOFFSETFROM:-0500
TZOFFSETTO:-0400
TZNAME:EDT
DTSTART:20240310T070000
END:DAYLIGHT
BEGIN:STANDARD
TZOFFSETFROM:-0400
TZOFFSETTO:-0500
TZNAME:EST
DTSTART:20241103T060000
END:STANDARD
BEGIN:DAYLIGHT
TZOFFSETFROM:-0500
TZOFFSETTO:-0400
TZNAME:EDT
DTSTART:20250309T070000
END:DAYLIGHT
BEGIN:STANDARD
TZOFFSETFROM:-0400
TZOFFSETTO:-0500
TZNAME:EST
DTSTART:20251102T060000
END:STANDARD
BEGIN:DAYLIGHT
TZOFFSETFROM:-0500
TZOFFSETTO:-0400
TZNAME:EDT
DTSTART:20260308T070000
END:DAYLIGHT
BEGIN:STANDARD
TZOFFSETFROM:-0400
TZOFFSETTO:-0500
TZNAME:EST
DTSTART:20261101T060000
END:STANDARD
END:VTIMEZONE
BEGIN:VEVENT
DTSTART;TZID=America/New_York:20250808T190000
DTEND;TZID=America/New_York:20250808T220000
DTSTAMP:20260419T113324
CREATED:20250605T175745Z
LAST-MODIFIED:20250605T175745Z
UID:1952-1754679600-1754690400@blasepisiesta.com
SUMMARY:ComboFusion
DESCRIPTION:
URL:https://blasepisiesta.com/event/combofusion-2/
LOCATION:Blase Cafe\, 5263 Ocean Blvd.\, Sarasota\, FL\, 34242\, United States
CATEGORIES:Music
END:VEVENT
BEGIN:VEVENT
DTSTART;TZID=America/New_York:20250809T190000
DTEND;TZID=America/New_York:20250809T220000
DTSTAMP:20260419T113324
CREATED:20250605T175922Z
LAST-MODIFIED:20250605T175922Z
UID:1954-1754766000-1754776800@blasepisiesta.com
SUMMARY:The JAM
DESCRIPTION:
URL:https://blasepisiesta.com/event/the-jam/
LOCATION:Blase Cafe\, 5263 Ocean Blvd.\, Sarasota\, FL\, 34242\, United States
CATEGORIES:Music
END:VEVENT
BEGIN:VEVENT
DTSTART;TZID=America/New_York:20250810T190000
DTEND;TZID=America/New_York:20250810T220000
DTSTAMP:20260419T113324
CREATED:20250605T175958Z
LAST-MODIFIED:20250605T175958Z
UID:1956-1754852400-1754863200@blasepisiesta.com
SUMMARY:Miranda Becker
DESCRIPTION:
URL:https://blasepisiesta.com/event/miranda-becker-5/
LOCATION:Blase Cafe\, 5263 Ocean Blvd.\, Sarasota\, FL\, 34242\, United States
CATEGORIES:Music
END:VEVENT
BEGIN:VEVENT
DTSTART;TZID=America/New_York:20250811T190000
DTEND;TZID=America/New_York:20250811T220000
DTSTAMP:20260419T113324
CREATED:20250605T180039Z
LAST-MODIFIED:20250605T180039Z
UID:1958-1754938800-1754949600@blasepisiesta.com
SUMMARY:Ty Turner
DESCRIPTION:
URL:https://blasepisiesta.com/event/ty-turner-9/
LOCATION:Blase Cafe\, 5263 Ocean Blvd.\, Sarasota\, FL\, 34242\, United States
CATEGORIES:Music
END:VEVENT
BEGIN:VEVENT
DTSTART;TZID=America/New_York:20250812T190000
DTEND;TZID=America/New_York:20250812T220000
DTSTAMP:20260419T113324
CREATED:20250605T180127Z
LAST-MODIFIED:20250605T180127Z
UID:1960-1755025200-1755036000@blasepisiesta.com
SUMMARY:Joe Bernui
DESCRIPTION:
URL:https://blasepisiesta.com/event/joe-bernui/
LOCATION:Blase Cafe\, 5263 Ocean Blvd.\, Sarasota\, FL\, 34242\, United States
CATEGORIES:Music
END:VEVENT
BEGIN:VEVENT
DTSTART;TZID=America/New_York:20250813T190000
DTEND;TZID=America/New_York:20250813T220000
DTSTAMP:20260419T113324
CREATED:20250605T180206Z
LAST-MODIFIED:20250605T180206Z
UID:1962-1755111600-1755122400@blasepisiesta.com
SUMMARY:Undr8ed Duo
DESCRIPTION:
URL:https://blasepisiesta.com/event/undr8ed-duo-9/
LOCATION:Blase Cafe\, 5263 Ocean Blvd.\, Sarasota\, FL\, 34242\, United States
CATEGORIES:Music
END:VEVENT
BEGIN:VEVENT
DTSTART;TZID=America/New_York:20250814T190000
DTEND;TZID=America/New_York:20250814T220000
DTSTAMP:20260419T113324
CREATED:20250605T180253Z
LAST-MODIFIED:20250605T180253Z
UID:1964-1755198000-1755208800@blasepisiesta.com
SUMMARY:Byrd N Moore
DESCRIPTION:
URL:https://blasepisiesta.com/event/byrd-n-moore-16/
LOCATION:Blase Cafe\, 5263 Ocean Blvd.\, Sarasota\, FL\, 34242\, United States
CATEGORIES:Music
END:VEVENT
BEGIN:VEVENT
DTSTART;TZID=America/New_York:20250815T190000
DTEND;TZID=America/New_York:20250815T220000
DTSTAMP:20260419T113324
CREATED:20250605T180333Z
LAST-MODIFIED:20250605T180333Z
UID:1966-1755284400-1755295200@blasepisiesta.com
SUMMARY:The Monsoons
DESCRIPTION:
URL:https://blasepisiesta.com/event/the-monsoons-4/
LOCATION:Blase Cafe\, 5263 Ocean Blvd.\, Sarasota\, FL\, 34242\, United States
CATEGORIES:Music
END:VEVENT
BEGIN:VEVENT
DTSTART;TZID=America/New_York:20250816T190000
DTEND;TZID=America/New_York:20250816T220000
DTSTAMP:20260419T113324
CREATED:20250605T180420Z
LAST-MODIFIED:20250605T180420Z
UID:1968-1755370800-1755381600@blasepisiesta.com
SUMMARY:The JAM Band
DESCRIPTION:
URL:https://blasepisiesta.com/event/the-jam-band-3/
LOCATION:Blase Cafe\, 5263 Ocean Blvd.\, Sarasota\, FL\, 34242\, United States
CATEGORIES:Music
END:VEVENT
BEGIN:VEVENT
DTSTART;TZID=America/New_York:20250817T190000
DTEND;TZID=America/New_York:20250817T220000
DTSTAMP:20260419T113324
CREATED:20250605T180500Z
LAST-MODIFIED:20250605T180505Z
UID:1970-1755457200-1755468000@blasepisiesta.com
SUMMARY:Jack Berry
DESCRIPTION:
URL:https://blasepisiesta.com/event/jack-berry-3/
LOCATION:Blase Cafe\, 5263 Ocean Blvd.\, Sarasota\, FL\, 34242\, United States
CATEGORIES:Music
END:VEVENT
BEGIN:VEVENT
DTSTART;TZID=America/New_York:20250818T190000
DTEND;TZID=America/New_York:20250818T220000
DTSTAMP:20260419T113324
CREATED:20250605T180539Z
LAST-MODIFIED:20250605T180539Z
UID:1972-1755543600-1755554400@blasepisiesta.com
SUMMARY:J Santi
DESCRIPTION:
URL:https://blasepisiesta.com/event/j-santi-3/
LOCATION:Blase Cafe\, 5263 Ocean Blvd.\, Sarasota\, FL\, 34242\, United States
CATEGORIES:Music
END:VEVENT
BEGIN:VEVENT
DTSTART;TZID=America/New_York:20250819T190000
DTEND;TZID=America/New_York:20250819T220000
DTSTAMP:20260419T113324
CREATED:20250605T180616Z
LAST-MODIFIED:20250605T180616Z
UID:1974-1755630000-1755640800@blasepisiesta.com
SUMMARY:Ty Turner
DESCRIPTION:
URL:https://blasepisiesta.com/event/ty-turner-10/
LOCATION:Blase Cafe\, 5263 Ocean Blvd.\, Sarasota\, FL\, 34242\, United States
CATEGORIES:Music
END:VEVENT
BEGIN:VEVENT
DTSTART;TZID=America/New_York:20250820T190000
DTEND;TZID=America/New_York:20250820T220000
DTSTAMP:20260419T113324
CREATED:20250605T180649Z
LAST-MODIFIED:20250605T180649Z
UID:1976-1755716400-1755727200@blasepisiesta.com
SUMMARY:Undr8ed Duo
DESCRIPTION:
URL:https://blasepisiesta.com/event/undr8ed-duo-10/
LOCATION:Blase Cafe\, 5263 Ocean Blvd.\, Sarasota\, FL\, 34242\, United States
CATEGORIES:Music
END:VEVENT
BEGIN:VEVENT
DTSTART;TZID=America/New_York:20250821T190000
DTEND;TZID=America/New_York:20250821T220000
DTSTAMP:20260419T113324
CREATED:20250605T180748Z
LAST-MODIFIED:20250605T180748Z
UID:1978-1755802800-1755813600@blasepisiesta.com
SUMMARY:Byrd N Moore
DESCRIPTION:
URL:https://blasepisiesta.com/event/byrd-n-moore-17/
LOCATION:Blase Cafe\, 5263 Ocean Blvd.\, Sarasota\, FL\, 34242\, United States
CATEGORIES:Music
END:VEVENT
BEGIN:VEVENT
DTSTART;TZID=America/New_York:20250822T190000
DTEND;TZID=America/New_York:20250822T220000
DTSTAMP:20260419T113324
CREATED:20250605T180833Z
LAST-MODIFIED:20250605T180833Z
UID:1980-1755889200-1755900000@blasepisiesta.com
SUMMARY:ComboFusion
DESCRIPTION:
URL:https://blasepisiesta.com/event/combofusion-3/
LOCATION:Blase Cafe\, 5263 Ocean Blvd.\, Sarasota\, FL\, 34242\, United States
CATEGORIES:Music
END:VEVENT
BEGIN:VEVENT
DTSTART;TZID=America/New_York:20250823T190000
DTEND;TZID=America/New_York:20250823T220000
DTSTAMP:20260419T113324
CREATED:20250605T180910Z
LAST-MODIFIED:20250605T180910Z
UID:1982-1755975600-1755986400@blasepisiesta.com
SUMMARY:Chris Connolly Band
DESCRIPTION:
URL:https://blasepisiesta.com/event/chris-connolly-band-2/
LOCATION:Blase Cafe\, 5263 Ocean Blvd.\, Sarasota\, FL\, 34242\, United States
CATEGORIES:Music
END:VEVENT
BEGIN:VEVENT
DTSTART;TZID=America/New_York:20250824T190000
DTEND;TZID=America/New_York:20250824T220000
DTSTAMP:20260419T113324
CREATED:20250605T180944Z
LAST-MODIFIED:20250605T180944Z
UID:1984-1756062000-1756072800@blasepisiesta.com
SUMMARY:Joe Bernui
DESCRIPTION:
URL:https://blasepisiesta.com/event/joe-bernui-2/
LOCATION:Blase Cafe\, 5263 Ocean Blvd.\, Sarasota\, FL\, 34242\, United States
CATEGORIES:Music
END:VEVENT
BEGIN:VEVENT
DTSTART;TZID=America/New_York:20250825T190000
DTEND;TZID=America/New_York:20250825T220000
DTSTAMP:20260419T113324
CREATED:20250605T181024Z
LAST-MODIFIED:20250605T181024Z
UID:1986-1756148400-1756159200@blasepisiesta.com
SUMMARY:Ty Turner
DESCRIPTION:
URL:https://blasepisiesta.com/event/ty-turner-11/
LOCATION:Blase Cafe\, 5263 Ocean Blvd.\, Sarasota\, FL\, 34242\, United States
CATEGORIES:Music
END:VEVENT
BEGIN:VEVENT
DTSTART;TZID=America/New_York:20250826T190000
DTEND;TZID=America/New_York:20250826T220000
DTSTAMP:20260419T113324
CREATED:20250605T181320Z
LAST-MODIFIED:20250605T181320Z
UID:1992-1756234800-1756245600@blasepisiesta.com
SUMMARY:Joe Bernui
DESCRIPTION:
URL:https://blasepisiesta.com/event/joe-bernui-4/
LOCATION:Blase Cafe\, 5263 Ocean Blvd.\, Sarasota\, FL\, 34242\, United States
CATEGORIES:Music
END:VEVENT
BEGIN:VEVENT
DTSTART;TZID=America/New_York:20250827T190000
DTEND;TZID=America/New_York:20250827T220000
DTSTAMP:20260419T113324
CREATED:20250605T181356Z
LAST-MODIFIED:20250605T181356Z
UID:1994-1756321200-1756332000@blasepisiesta.com
SUMMARY:Sabrina McClenithan
DESCRIPTION:
URL:https://blasepisiesta.com/event/sabrina-mcclenithan-2/
LOCATION:Blase Cafe\, 5263 Ocean Blvd.\, Sarasota\, FL\, 34242\, United States
CATEGORIES:Music
END:VEVENT
BEGIN:VEVENT
DTSTART;TZID=America/New_York:20250828T190000
DTEND;TZID=America/New_York:20250828T220000
DTSTAMP:20260419T113324
CREATED:20250605T181436Z
LAST-MODIFIED:20250605T181436Z
UID:1996-1756407600-1756418400@blasepisiesta.com
SUMMARY:Byrd N Moore
DESCRIPTION:
URL:https://blasepisiesta.com/event/byrd-n-moore-18/
LOCATION:Blase Cafe\, 5263 Ocean Blvd.\, Sarasota\, FL\, 34242\, United States
CATEGORIES:Music
END:VEVENT
BEGIN:VEVENT
DTSTART;TZID=America/New_York:20250829T190000
DTEND;TZID=America/New_York:20250829T220000
DTSTAMP:20260419T113324
CREATED:20250605T181518Z
LAST-MODIFIED:20250605T181518Z
UID:1998-1756494000-1756504800@blasepisiesta.com
SUMMARY:Shaky Pudding
DESCRIPTION:
URL:https://blasepisiesta.com/event/shaky-pudding-2/
LOCATION:Blase Cafe\, 5263 Ocean Blvd.\, Sarasota\, FL\, 34242\, United States
CATEGORIES:Music
END:VEVENT
BEGIN:VEVENT
DTSTART;TZID=America/New_York:20250830T180000
DTEND;TZID=America/New_York:20250830T220000
DTSTAMP:20260419T113324
CREATED:20250605T181559Z
LAST-MODIFIED:20250605T181559Z
UID:2000-1756576800-1756591200@blasepisiesta.com
SUMMARY:Bri Rivera Band
DESCRIPTION:
URL:https://blasepisiesta.com/event/bri-rivera-band-4/
LOCATION:Blase Cafe\, 5263 Ocean Blvd.\, Sarasota\, FL\, 34242\, United States
CATEGORIES:Music
END:VEVENT
BEGIN:VEVENT
DTSTART;TZID=America/New_York:20250831T190000
DTEND;TZID=America/New_York:20250831T220000
DTSTAMP:20260419T113324
CREATED:20250605T181634Z
LAST-MODIFIED:20250605T181634Z
UID:2002-1756666800-1756677600@blasepisiesta.com
SUMMARY:J Santi
DESCRIPTION:
URL:https://blasepisiesta.com/event/j-santi-4/
LOCATION:Blase Cafe\, 5263 Ocean Blvd.\, Sarasota\, FL\, 34242\, United States
CATEGORIES:Music
END:VEVENT
BEGIN:VEVENT
DTSTART;TZID=America/New_York:20250901T190000
DTEND;TZID=America/New_York:20250901T220000
DTSTAMP:20260419T113324
CREATED:20250828T172025Z
LAST-MODIFIED:20250828T172025Z
UID:2101-1756753200-1756764000@blasepisiesta.com
SUMMARY:Ty Tunrer
DESCRIPTION:
URL:https://blasepisiesta.com/event/ty-tunrer/
LOCATION:Blase Cafe\, 5263 Ocean Blvd.\, Sarasota\, FL\, 34242\, United States
END:VEVENT
BEGIN:VEVENT
DTSTART;TZID=America/New_York:20250902T190000
DTEND;TZID=America/New_York:20250902T220000
DTSTAMP:20260419T113324
CREATED:20250828T172221Z
LAST-MODIFIED:20250828T172221Z
UID:2103-1756839600-1756850400@blasepisiesta.com
SUMMARY:Chris Connolly
DESCRIPTION:
URL:https://blasepisiesta.com/event/chris-connolly-7/
LOCATION:Blase Cafe\, 5263 Ocean Blvd.\, Sarasota\, FL\, 34242\, United States
END:VEVENT
BEGIN:VEVENT
DTSTART;TZID=America/New_York:20250903T190000
DTEND;TZID=America/New_York:20250903T220000
DTSTAMP:20260419T113324
CREATED:20250828T172317Z
LAST-MODIFIED:20250828T172317Z
UID:2105-1756926000-1756936800@blasepisiesta.com
SUMMARY:Miranda Becker
DESCRIPTION:
URL:https://blasepisiesta.com/event/miranda-becker-6/
LOCATION:Blase Cafe\, 5263 Ocean Blvd.\, Sarasota\, FL\, 34242\, United States
END:VEVENT
BEGIN:VEVENT
DTSTART;TZID=America/New_York:20250904T190000
DTEND;TZID=America/New_York:20250904T220000
DTSTAMP:20260419T113324
CREATED:20250828T172436Z
LAST-MODIFIED:20250828T172436Z
UID:2107-1757012400-1757023200@blasepisiesta.com
SUMMARY:Byrd N Moore
DESCRIPTION:
URL:https://blasepisiesta.com/event/byrd-n-moore-19/
LOCATION:Blase Cafe\, 5263 Ocean Blvd.\, Sarasota\, FL\, 34242\, United States
END:VEVENT
BEGIN:VEVENT
DTSTART;TZID=America/New_York:20250905T190000
DTEND;TZID=America/New_York:20250905T220000
DTSTAMP:20260419T113324
CREATED:20250828T172524Z
LAST-MODIFIED:20250828T172524Z
UID:2109-1757098800-1757109600@blasepisiesta.com
SUMMARY:Ellipsis Band
DESCRIPTION:
URL:https://blasepisiesta.com/event/ellipsis-band/
LOCATION:Blase Cafe\, 5263 Ocean Blvd.\, Sarasota\, FL\, 34242\, United States
END:VEVENT
BEGIN:VEVENT
DTSTART;TZID=America/New_York:20250906T190000
DTEND;TZID=America/New_York:20250906T220000
DTSTAMP:20260419T113324
CREATED:20250828T172729Z
LAST-MODIFIED:20250828T172729Z
UID:2111-1757185200-1757196000@blasepisiesta.com
SUMMARY:J Santi & the vital Groove
DESCRIPTION:
URL:https://blasepisiesta.com/event/j-santi-the-vital-groove-3/
LOCATION:Blase Cafe\, 5263 Ocean Blvd.\, Sarasota\, FL\, 34242\, United States
END:VEVENT
END:VCALENDAR