BEGIN:VCALENDAR
VERSION:2.0
PRODID:-//Blase Cafe &amp; Pi Pizza &amp; Craft Martini Bar - ECPv6.15.20//NONSGML v1.0//EN
CALSCALE:GREGORIAN
METHOD:PUBLISH
X-WR-CALNAME:Blase Cafe &amp; Pi Pizza &amp; Craft Martini Bar
X-ORIGINAL-URL:https://blasepisiesta.com
X-WR-CALDESC:Events for Blase Cafe &amp; Pi Pizza &amp; Craft Martini Bar
REFRESH-INTERVAL;VALUE=DURATION:PT1H
X-Robots-Tag:noindex
X-PUBLISHED-TTL:PT1H
BEGIN:VTIMEZONE
TZID:America/New_York
BEGIN:DAYLIGHT
TZOFFSETFROM:-0500
TZOFFSETTO:-0400
TZNAME:EDT
DTSTART:20240310T070000
END:DAYLIGHT
BEGIN:STANDARD
TZOFFSETFROM:-0400
TZOFFSETTO:-0500
TZNAME:EST
DTSTART:20241103T060000
END:STANDARD
BEGIN:DAYLIGHT
TZOFFSETFROM:-0500
TZOFFSETTO:-0400
TZNAME:EDT
DTSTART:20250309T070000
END:DAYLIGHT
BEGIN:STANDARD
TZOFFSETFROM:-0400
TZOFFSETTO:-0500
TZNAME:EST
DTSTART:20251102T060000
END:STANDARD
BEGIN:DAYLIGHT
TZOFFSETFROM:-0500
TZOFFSETTO:-0400
TZNAME:EDT
DTSTART:20260308T070000
END:DAYLIGHT
BEGIN:STANDARD
TZOFFSETFROM:-0400
TZOFFSETTO:-0500
TZNAME:EST
DTSTART:20261101T060000
END:STANDARD
END:VTIMEZONE
BEGIN:VEVENT
DTSTART;TZID=America/New_York:20250608T190000
DTEND;TZID=America/New_York:20250608T220000
DTSTAMP:20260419T150717
CREATED:20250512T165957Z
LAST-MODIFIED:20250512T174743Z
UID:1751-1749409200-1749420000@blasepisiesta.com
SUMMARY:Miranda Becker
DESCRIPTION:
URL:https://blasepisiesta.com/event/miranda-becker-2/
LOCATION:Blase Cafe\, 5263 Ocean Blvd.\, Sarasota\, FL\, 34242\, United States
CATEGORIES:Music
END:VEVENT
BEGIN:VEVENT
DTSTART;TZID=America/New_York:20250607T190000
DTEND;TZID=America/New_York:20250607T220000
DTSTAMP:20260419T150717
CREATED:20250512T165901Z
LAST-MODIFIED:20250512T174801Z
UID:1749-1749322800-1749333600@blasepisiesta.com
SUMMARY:J Santi & Vital Groove
DESCRIPTION:
URL:https://blasepisiesta.com/event/j-santi-vital-groove-2/
LOCATION:Blase Cafe\, 5263 Ocean Blvd.\, Sarasota\, FL\, 34242\, United States
CATEGORIES:Music
END:VEVENT
BEGIN:VEVENT
DTSTART;TZID=America/New_York:20250606T190000
DTEND;TZID=America/New_York:20250606T220000
DTSTAMP:20260419T150717
CREATED:20250512T165750Z
LAST-MODIFIED:20250512T174824Z
UID:1747-1749236400-1749247200@blasepisiesta.com
SUMMARY:UNDR8ED Band
DESCRIPTION:
URL:https://blasepisiesta.com/event/undr8ed-band-2/
LOCATION:Blase Cafe\, 5263 Ocean Blvd.\, Sarasota\, FL\, 34242\, United States
CATEGORIES:Music
END:VEVENT
BEGIN:VEVENT
DTSTART;TZID=America/New_York:20250605T180000
DTEND;TZID=America/New_York:20250605T220000
DTSTAMP:20260419T150717
CREATED:20250512T165646Z
LAST-MODIFIED:20250512T174840Z
UID:1745-1749146400-1749160800@blasepisiesta.com
SUMMARY:Byrd N Moore
DESCRIPTION:
URL:https://blasepisiesta.com/event/byrd-n-moore-6/
LOCATION:Blase Cafe\, 5263 Ocean Blvd.\, Sarasota\, FL\, 34242\, United States
CATEGORIES:Music
END:VEVENT
BEGIN:VEVENT
DTSTART;TZID=America/New_York:20250604T190000
DTEND;TZID=America/New_York:20250604T220000
DTSTAMP:20260419T150717
CREATED:20250512T165540Z
LAST-MODIFIED:20250512T174859Z
UID:1743-1749063600-1749074400@blasepisiesta.com
SUMMARY:UNDR8ED  Duo
DESCRIPTION:
URL:https://blasepisiesta.com/event/undr8ed-duo-4/
LOCATION:Blase Cafe\, 5263 Ocean Blvd.\, Sarasota\, FL\, 34242\, United States
CATEGORIES:Music
END:VEVENT
BEGIN:VEVENT
DTSTART;TZID=America/New_York:20250603T190000
DTEND;TZID=America/New_York:20250603T220000
DTSTAMP:20260419T150717
CREATED:20250512T165343Z
LAST-MODIFIED:20250512T174924Z
UID:1741-1748977200-1748988000@blasepisiesta.com
SUMMARY:Ty Tuner
DESCRIPTION:
URL:https://blasepisiesta.com/event/ty-tuner/
LOCATION:Blase Cafe\, 5263 Ocean Blvd.\, Sarasota\, FL\, 34242\, United States
CATEGORIES:Music
END:VEVENT
BEGIN:VEVENT
DTSTART;TZID=America/New_York:20250602T190000
DTEND;TZID=America/New_York:20250602T220000
DTSTAMP:20260419T150717
CREATED:20250512T165250Z
LAST-MODIFIED:20250512T174944Z
UID:1739-1748890800-1748901600@blasepisiesta.com
SUMMARY:Chris Connolly
DESCRIPTION:
URL:https://blasepisiesta.com/event/chris-connolly-3/
LOCATION:Blase Cafe\, 5263 Ocean Blvd.\, Sarasota\, FL\, 34242\, United States
CATEGORIES:Music
END:VEVENT
BEGIN:VEVENT
DTSTART;TZID=America/New_York:20250601T190000
DTEND;TZID=America/New_York:20250601T220000
DTSTAMP:20260419T150717
CREATED:20250512T165206Z
LAST-MODIFIED:20250512T174959Z
UID:1737-1748804400-1748815200@blasepisiesta.com
SUMMARY:Vince & Steve
DESCRIPTION:
URL:https://blasepisiesta.com/event/vince-steve-2/
LOCATION:Blase Cafe\, 5263 Ocean Blvd.\, Sarasota\, FL\, 34242\, United States
CATEGORIES:Music
END:VEVENT
BEGIN:VEVENT
DTSTART;TZID=America/New_York:20250531T180000
DTEND;TZID=America/New_York:20250531T220000
DTSTAMP:20260419T150717
CREATED:20250512T164014Z
LAST-MODIFIED:20250512T175024Z
UID:1732-1748714400-1748728800@blasepisiesta.com
SUMMARY:Bri Rivera Band
DESCRIPTION:
URL:https://blasepisiesta.com/event/bri-rivera-band/
LOCATION:Blase Cafe\, 5263 Ocean Blvd.\, Sarasota\, FL\, 34242\, United States
CATEGORIES:Music
END:VEVENT
BEGIN:VEVENT
DTSTART;TZID=America/New_York:20250530T190000
DTEND;TZID=America/New_York:20250530T220000
DTSTAMP:20260419T150717
CREATED:20250512T163927Z
LAST-MODIFIED:20250512T175042Z
UID:1730-1748631600-1748642400@blasepisiesta.com
SUMMARY:Billy Lyon Band
DESCRIPTION:
URL:https://blasepisiesta.com/event/billy-lyon-band-2/
LOCATION:Blase Cafe\, 5263 Ocean Blvd.\, Sarasota\, FL\, 34242\, United States
CATEGORIES:Music
END:VEVENT
BEGIN:VEVENT
DTSTART;TZID=America/New_York:20250529T180000
DTEND;TZID=America/New_York:20250529T220000
DTSTAMP:20260419T150717
CREATED:20250512T163826Z
LAST-MODIFIED:20250512T175105Z
UID:1727-1748541600-1748556000@blasepisiesta.com
SUMMARY:Byrd N Moore
DESCRIPTION:
URL:https://blasepisiesta.com/event/byrd-n-moore-5/
LOCATION:Blase Cafe\, 5263 Ocean Blvd.\, Sarasota\, FL\, 34242\, United States
CATEGORIES:Music
END:VEVENT
BEGIN:VEVENT
DTSTART;TZID=America/New_York:20250528T190000
DTEND;TZID=America/New_York:20250528T220000
DTSTAMP:20260419T150717
CREATED:20250512T163731Z
LAST-MODIFIED:20250512T175121Z
UID:1725-1748458800-1748469600@blasepisiesta.com
SUMMARY:UNDR8ED Duo
DESCRIPTION:
URL:https://blasepisiesta.com/event/undr8ed-duo-3/
LOCATION:Blase Cafe\, 5263 Ocean Blvd.\, Sarasota\, FL\, 34242\, United States
CATEGORIES:Music
END:VEVENT
BEGIN:VEVENT
DTSTART;TZID=America/New_York:20250527T190000
DTEND;TZID=America/New_York:20250527T220000
DTSTAMP:20260419T150717
CREATED:20250512T173702Z
LAST-MODIFIED:20250512T173702Z
UID:1800-1748372400-1748383200@blasepisiesta.com
SUMMARY:Al Donadi
DESCRIPTION:
URL:https://blasepisiesta.com/event/al-donadi-4/
LOCATION:Blase Cafe\, 5263 Ocean Blvd.\, Sarasota\, FL\, 34242\, United States
CATEGORIES:Music
END:VEVENT
BEGIN:VEVENT
DTSTART;TZID=America/New_York:20250526T190000
DTEND;TZID=America/New_York:20250526T220000
DTSTAMP:20260419T150717
CREATED:20250512T163551Z
LAST-MODIFIED:20250512T175156Z
UID:1721-1748286000-1748296800@blasepisiesta.com
SUMMARY:Miranda Becker
DESCRIPTION:
URL:https://blasepisiesta.com/event/miranda-becker/
LOCATION:Blase Cafe\, 5263 Ocean Blvd.\, Sarasota\, FL\, 34242\, United States
CATEGORIES:Music
END:VEVENT
BEGIN:VEVENT
DTSTART;TZID=America/New_York:20250525T190000
DTEND;TZID=America/New_York:20250525T220000
DTSTAMP:20260419T150717
CREATED:20250512T163511Z
LAST-MODIFIED:20250512T175211Z
UID:1719-1748199600-1748210400@blasepisiesta.com
SUMMARY:Ty Turner
DESCRIPTION:
URL:https://blasepisiesta.com/event/ty-turner/
LOCATION:Blase Cafe\, 5263 Ocean Blvd.\, Sarasota\, FL\, 34242\, United States
CATEGORIES:Music
END:VEVENT
BEGIN:VEVENT
DTSTART;TZID=America/New_York:20250524T190000
DTEND;TZID=America/New_York:20250524T220000
DTSTAMP:20260419T150717
CREATED:20250512T163320Z
LAST-MODIFIED:20250512T175224Z
UID:1717-1748113200-1748124000@blasepisiesta.com
SUMMARY:Garbage Men
DESCRIPTION:
URL:https://blasepisiesta.com/event/garbage-men/
LOCATION:Blase Cafe\, 5263 Ocean Blvd.\, Sarasota\, FL\, 34242\, United States
CATEGORIES:Music
END:VEVENT
BEGIN:VEVENT
DTSTART;TZID=America/New_York:20250523T190000
DTEND;TZID=America/New_York:20250523T220000
DTSTAMP:20260419T150717
CREATED:20250512T163206Z
LAST-MODIFIED:20250512T175245Z
UID:1715-1748026800-1748037600@blasepisiesta.com
SUMMARY:The Monsoons
DESCRIPTION:
URL:https://blasepisiesta.com/event/the-monsoons-2/
LOCATION:Blase Cafe\, 5263 Ocean Blvd.\, Sarasota\, FL\, 34242\, United States
CATEGORIES:Music
END:VEVENT
BEGIN:VEVENT
DTSTART;TZID=America/New_York:20250522T180000
DTEND;TZID=America/New_York:20250522T220000
DTSTAMP:20260419T150717
CREATED:20250512T163124Z
LAST-MODIFIED:20250512T175300Z
UID:1713-1747936800-1747951200@blasepisiesta.com
SUMMARY:Byrd N Moore
DESCRIPTION:
URL:https://blasepisiesta.com/event/byrd-n-moore-4/
LOCATION:Blase Cafe\, 5263 Ocean Blvd.\, Sarasota\, FL\, 34242\, United States
CATEGORIES:Music
END:VEVENT
BEGIN:VEVENT
DTSTART;TZID=America/New_York:20250521T190000
DTEND;TZID=America/New_York:20250521T220000
DTSTAMP:20260419T150717
CREATED:20250512T162952Z
LAST-MODIFIED:20250512T175340Z
UID:1711-1747854000-1747864800@blasepisiesta.com
SUMMARY:UNDR8ED Duo
DESCRIPTION:
URL:https://blasepisiesta.com/event/undr8ed-duo-2/
LOCATION:Blase Cafe\, 5263 Ocean Blvd.\, Sarasota\, FL\, 34242\, United States
CATEGORIES:Music
END:VEVENT
BEGIN:VEVENT
DTSTART;TZID=America/New_York:20250520T190000
DTEND;TZID=America/New_York:20250520T220000
DTSTAMP:20260419T150717
CREATED:20250512T162827Z
LAST-MODIFIED:20250512T175353Z
UID:1708-1747767600-1747778400@blasepisiesta.com
SUMMARY:Al Donadi
DESCRIPTION:
URL:https://blasepisiesta.com/event/al-donadi-3/
LOCATION:Blase Cafe\, 5263 Ocean Blvd.\, Sarasota\, FL\, 34242\, United States
CATEGORIES:Music
END:VEVENT
BEGIN:VEVENT
DTSTART;TZID=America/New_York:20250519T190000
DTEND;TZID=America/New_York:20250519T220000
DTSTAMP:20260419T150717
CREATED:20250512T162739Z
LAST-MODIFIED:20250512T175407Z
UID:1706-1747681200-1747692000@blasepisiesta.com
SUMMARY:Chris Connolly
DESCRIPTION:
URL:https://blasepisiesta.com/event/chris-connolly-2/
LOCATION:Blase Cafe\, 5263 Ocean Blvd.\, Sarasota\, FL\, 34242\, United States
CATEGORIES:Music
END:VEVENT
BEGIN:VEVENT
DTSTART;TZID=America/New_York:20250518T190000
DTEND;TZID=America/New_York:20250518T220000
DTSTAMP:20260419T150717
CREATED:20250512T162641Z
LAST-MODIFIED:20250512T175430Z
UID:1704-1747594800-1747605600@blasepisiesta.com
SUMMARY:Vince & Steve
DESCRIPTION:
URL:https://blasepisiesta.com/event/vince-steve/
LOCATION:Blase Cafe\, 5263 Ocean Blvd.\, Sarasota\, FL\, 34242\, United States
CATEGORIES:Music
END:VEVENT
BEGIN:VEVENT
DTSTART;TZID=America/New_York:20250517T190000
DTEND;TZID=America/New_York:20250517T220000
DTSTAMP:20260419T150717
CREATED:20250512T162442Z
LAST-MODIFIED:20250512T175444Z
UID:1702-1747508400-1747519200@blasepisiesta.com
SUMMARY:Billy Lyon Band
DESCRIPTION:
URL:https://blasepisiesta.com/event/billy-lyon-band/
LOCATION:Blase Cafe\, 5263 Ocean Blvd.\, Sarasota\, FL\, 34242\, United States
CATEGORIES:Music
END:VEVENT
BEGIN:VEVENT
DTSTART;TZID=America/New_York:20250516T190000
DTEND;TZID=America/New_York:20250516T220000
DTSTAMP:20260419T150717
CREATED:20250512T162330Z
LAST-MODIFIED:20250512T175506Z
UID:1700-1747422000-1747432800@blasepisiesta.com
SUMMARY:J Santi & Vital Groove
DESCRIPTION:
URL:https://blasepisiesta.com/event/j-santi-vital-groove/
LOCATION:Blase Cafe\, 5263 Ocean Blvd.\, Sarasota\, FL\, 34242\, United States
CATEGORIES:Music
END:VEVENT
BEGIN:VEVENT
DTSTART;TZID=America/New_York:20250515T180000
DTEND;TZID=America/New_York:20250515T220000
DTSTAMP:20260419T150717
CREATED:20250512T162251Z
LAST-MODIFIED:20250512T175519Z
UID:1698-1747332000-1747346400@blasepisiesta.com
SUMMARY:Byrd N Moore
DESCRIPTION:
URL:https://blasepisiesta.com/event/byrd-n-moore-3/
LOCATION:Blase Cafe\, 5263 Ocean Blvd.\, Sarasota\, FL\, 34242\, United States
CATEGORIES:Music
END:VEVENT
BEGIN:VEVENT
DTSTART;TZID=America/New_York:20250514T190000
DTEND;TZID=America/New_York:20250514T220000
DTSTAMP:20260419T150717
CREATED:20250512T162200Z
LAST-MODIFIED:20250512T175538Z
UID:1696-1747249200-1747260000@blasepisiesta.com
SUMMARY:UNDR8ED Duo
DESCRIPTION:
URL:https://blasepisiesta.com/event/undr8ed-duo/
LOCATION:Blase Cafe\, 5263 Ocean Blvd.\, Sarasota\, FL\, 34242\, United States
CATEGORIES:Music
END:VEVENT
BEGIN:VEVENT
DTSTART;TZID=America/New_York:20250513T190000
DTEND;TZID=America/New_York:20250513T220000
DTSTAMP:20260419T150717
CREATED:20250512T161846Z
LAST-MODIFIED:20250512T175605Z
UID:1691-1747162800-1747173600@blasepisiesta.com
SUMMARY:Al Donadi
DESCRIPTION:
URL:https://blasepisiesta.com/event/al-donadi-2/
LOCATION:Blase Cafe\, 5263 Ocean Blvd.\, Sarasota\, FL\, 34242\, United States
CATEGORIES:Music
END:VEVENT
BEGIN:VEVENT
DTSTART;TZID=America/New_York:20250512T190000
DTEND;TZID=America/New_York:20250512T220000
DTSTAMP:20260419T150717
CREATED:20250512T161805Z
LAST-MODIFIED:20250512T180534Z
UID:1689-1747076400-1747087200@blasepisiesta.com
SUMMARY:Chris Otto
DESCRIPTION:
URL:https://blasepisiesta.com/event/chris-otto-2/
LOCATION:Blase Cafe\, 5263 Ocean Blvd.\, Sarasota\, FL\, 34242\, United States
CATEGORIES:Music
END:VEVENT
BEGIN:VEVENT
DTSTART;TZID=America/New_York:20250511T190000
DTEND;TZID=America/New_York:20250511T220000
DTSTAMP:20260419T150717
CREATED:20250512T161655Z
LAST-MODIFIED:20250512T180604Z
UID:1687-1746990000-1747000800@blasepisiesta.com
SUMMARY:Chris Connolly
DESCRIPTION:
URL:https://blasepisiesta.com/event/chris-connolly/
LOCATION:Blase Cafe\, 5263 Ocean Blvd.\, Sarasota\, FL\, 34242\, United States
CATEGORIES:Music
END:VEVENT
BEGIN:VEVENT
DTSTART;TZID=America/New_York:20250510T190000
DTEND;TZID=America/New_York:20250510T220000
DTSTAMP:20260419T150717
CREATED:20250512T161606Z
LAST-MODIFIED:20250512T180621Z
UID:1685-1746903600-1746914400@blasepisiesta.com
SUMMARY:Vince @ Nite
DESCRIPTION:
URL:https://blasepisiesta.com/event/vince-nite/
LOCATION:Blase Cafe\, 5263 Ocean Blvd.\, Sarasota\, FL\, 34242\, United States
CATEGORIES:Music
END:VEVENT
END:VCALENDAR