BEGIN:VCALENDAR
VERSION:2.0
PRODID:-//Blase Cafe &amp; Pi Pizza &amp; Craft Martini Bar - ECPv6.15.20//NONSGML v1.0//EN
CALSCALE:GREGORIAN
METHOD:PUBLISH
X-ORIGINAL-URL:https://blasepisiesta.com
X-WR-CALDESC:Events for Blase Cafe &amp; Pi Pizza &amp; Craft Martini Bar
REFRESH-INTERVAL;VALUE=DURATION:PT1H
X-Robots-Tag:noindex
X-PUBLISHED-TTL:PT1H
BEGIN:VTIMEZONE
TZID:America/New_York
BEGIN:DAYLIGHT
TZOFFSETFROM:-0500
TZOFFSETTO:-0400
TZNAME:EDT
DTSTART:20240310T070000
END:DAYLIGHT
BEGIN:STANDARD
TZOFFSETFROM:-0400
TZOFFSETTO:-0500
TZNAME:EST
DTSTART:20241103T060000
END:STANDARD
BEGIN:DAYLIGHT
TZOFFSETFROM:-0500
TZOFFSETTO:-0400
TZNAME:EDT
DTSTART:20250309T070000
END:DAYLIGHT
BEGIN:STANDARD
TZOFFSETFROM:-0400
TZOFFSETTO:-0500
TZNAME:EST
DTSTART:20251102T060000
END:STANDARD
BEGIN:DAYLIGHT
TZOFFSETFROM:-0500
TZOFFSETTO:-0400
TZNAME:EDT
DTSTART:20260308T070000
END:DAYLIGHT
BEGIN:STANDARD
TZOFFSETFROM:-0400
TZOFFSETTO:-0500
TZNAME:EST
DTSTART:20261101T060000
END:STANDARD
END:VTIMEZONE
BEGIN:VEVENT
DTSTART;TZID=America/New_York:20251019T190000
DTEND;TZID=America/New_York:20251019T220000
DTSTAMP:20260419T223952
CREATED:20250828T181828Z
LAST-MODIFIED:20250828T181828Z
UID:2197-1760900400-1760911200@blasepisiesta.com
SUMMARY:Chris Otto
DESCRIPTION:
URL:https://blasepisiesta.com/event/chris-otto-8/
LOCATION:Blase Cafe\, 5263 Ocean Blvd.\, Sarasota\, FL\, 34242\, United States
END:VEVENT
BEGIN:VEVENT
DTSTART;TZID=America/New_York:20251020T190000
DTEND;TZID=America/New_York:20251020T220000
DTSTAMP:20260419T223952
CREATED:20250828T181918Z
LAST-MODIFIED:20250828T181918Z
UID:2199-1760986800-1760997600@blasepisiesta.com
SUMMARY:Ty Turner
DESCRIPTION:
URL:https://blasepisiesta.com/event/ty-turner-17/
LOCATION:Blase Cafe\, 5263 Ocean Blvd.\, Sarasota\, FL\, 34242\, United States
END:VEVENT
BEGIN:VEVENT
DTSTART;TZID=America/New_York:20251021T190000
DTEND;TZID=America/New_York:20251021T220000
DTSTAMP:20260419T223952
CREATED:20250828T182022Z
LAST-MODIFIED:20250828T182022Z
UID:2201-1761073200-1761084000@blasepisiesta.com
SUMMARY:Al Donadi
DESCRIPTION:
URL:https://blasepisiesta.com/event/al-donadi-11/
LOCATION:Blase Cafe\, 5263 Ocean Blvd.\, Sarasota\, FL\, 34242\, United States
END:VEVENT
BEGIN:VEVENT
DTSTART;TZID=America/New_York:20251022T190000
DTEND;TZID=America/New_York:20251022T220000
DTSTAMP:20260419T223952
CREATED:20250828T182138Z
LAST-MODIFIED:20250828T182138Z
UID:2203-1761159600-1761170400@blasepisiesta.com
SUMMARY:Undr8ed Duo
DESCRIPTION:
URL:https://blasepisiesta.com/event/undr8ed-duo-15/
LOCATION:Blase Cafe\, 5263 Ocean Blvd.\, Sarasota\, FL\, 34242\, United States
END:VEVENT
BEGIN:VEVENT
DTSTART;TZID=America/New_York:20251023T190000
DTEND;TZID=America/New_York:20251023T220000
DTSTAMP:20260419T223952
CREATED:20250828T182243Z
LAST-MODIFIED:20250828T182243Z
UID:2205-1761246000-1761256800@blasepisiesta.com
SUMMARY:Byrd n Moore
DESCRIPTION:
URL:https://blasepisiesta.com/event/byrd-n-moore-26/
LOCATION:Blase Cafe\, 5263 Ocean Blvd.\, Sarasota\, FL\, 34242\, United States
END:VEVENT
BEGIN:VEVENT
DTSTART;TZID=America/New_York:20251024T190000
DTEND;TZID=America/New_York:20251024T220000
DTSTAMP:20260419T223952
CREATED:20250828T182326Z
LAST-MODIFIED:20250828T182326Z
UID:2207-1761332400-1761343200@blasepisiesta.com
SUMMARY:Ellipsis Band
DESCRIPTION:
URL:https://blasepisiesta.com/event/ellipsis-band-4/
LOCATION:Blase Cafe\, 5263 Ocean Blvd.\, Sarasota\, FL\, 34242\, United States
END:VEVENT
BEGIN:VEVENT
DTSTART;TZID=America/New_York:20251025T190000
DTEND;TZID=America/New_York:20251025T220000
DTSTAMP:20260419T223952
CREATED:20250828T182408Z
LAST-MODIFIED:20250828T182408Z
UID:2209-1761418800-1761429600@blasepisiesta.com
SUMMARY:Bri Rivera Band
DESCRIPTION:
URL:https://blasepisiesta.com/event/bri-rivera-band-6/
LOCATION:Blase Cafe\, 5263 Ocean Blvd.\, Sarasota\, FL\, 34242\, United States
END:VEVENT
BEGIN:VEVENT
DTSTART;TZID=America/New_York:20251026T190000
DTEND;TZID=America/New_York:20251026T220000
DTSTAMP:20260419T223952
CREATED:20250828T182444Z
LAST-MODIFIED:20250828T182444Z
UID:2211-1761505200-1761516000@blasepisiesta.com
SUMMARY:J Santi
DESCRIPTION:
URL:https://blasepisiesta.com/event/j-santi-6/
LOCATION:Blase Cafe\, 5263 Ocean Blvd.\, Sarasota\, FL\, 34242\, United States
END:VEVENT
BEGIN:VEVENT
DTSTART;TZID=America/New_York:20251027T190000
DTEND;TZID=America/New_York:20251027T220000
DTSTAMP:20260419T223952
CREATED:20250828T182523Z
LAST-MODIFIED:20250828T182523Z
UID:2213-1761591600-1761602400@blasepisiesta.com
SUMMARY:Ty Turner
DESCRIPTION:
URL:https://blasepisiesta.com/event/ty-turner-18/
LOCATION:Blase Cafe\, 5263 Ocean Blvd.\, Sarasota\, FL\, 34242\, United States
END:VEVENT
BEGIN:VEVENT
DTSTART;TZID=America/New_York:20251028T190000
DTEND;TZID=America/New_York:20251028T220000
DTSTAMP:20260419T223952
CREATED:20250828T182600Z
LAST-MODIFIED:20250828T182600Z
UID:2215-1761678000-1761688800@blasepisiesta.com
SUMMARY:Al Donadi
DESCRIPTION:
URL:https://blasepisiesta.com/event/al-donadi-12/
LOCATION:Blase Cafe\, 5263 Ocean Blvd.\, Sarasota\, FL\, 34242\, United States
END:VEVENT
BEGIN:VEVENT
DTSTART;TZID=America/New_York:20251029T070000
DTEND;TZID=America/New_York:20251029T220000
DTSTAMP:20260419T223952
CREATED:20250828T182640Z
LAST-MODIFIED:20250828T182640Z
UID:2217-1761721200-1761775200@blasepisiesta.com
SUMMARY:Miranda Becker Duo
DESCRIPTION:
URL:https://blasepisiesta.com/event/miranda-becker-duo-2/
LOCATION:Blase Cafe\, 5263 Ocean Blvd.\, Sarasota\, FL\, 34242\, United States
END:VEVENT
BEGIN:VEVENT
DTSTART;TZID=America/New_York:20251030T190000
DTEND;TZID=America/New_York:20251030T220000
DTSTAMP:20260419T223952
CREATED:20250828T182710Z
LAST-MODIFIED:20250828T182710Z
UID:2219-1761850800-1761861600@blasepisiesta.com
SUMMARY:Byrd n Moore
DESCRIPTION:
URL:https://blasepisiesta.com/event/byrd-n-moore-27/
LOCATION:Blase Cafe\, 5263 Ocean Blvd.\, Sarasota\, FL\, 34242\, United States
END:VEVENT
BEGIN:VEVENT
DTSTART;TZID=America/New_York:20251031T190000
DTEND;TZID=America/New_York:20251031T220000
DTSTAMP:20260419T223952
CREATED:20250828T182744Z
LAST-MODIFIED:20250828T182744Z
UID:2221-1761937200-1761948000@blasepisiesta.com
SUMMARY:Al Donadi Band
DESCRIPTION:
URL:https://blasepisiesta.com/event/al-donadi-band-3/
LOCATION:Blase Cafe\, 5263 Ocean Blvd.\, Sarasota\, FL\, 34242\, United States
END:VEVENT
BEGIN:VEVENT
DTSTART;TZID=America/New_York:20251101T190000
DTEND;TZID=America/New_York:20251101T220000
DTSTAMP:20260419T223952
CREATED:20251110T173927Z
LAST-MODIFIED:20251110T173927Z
UID:2287-1762023600-1762034400@blasepisiesta.com
SUMMARY:J Santi & The vital Groove
DESCRIPTION:
URL:https://blasepisiesta.com/event/j-santi-the-vital-groove-5/
LOCATION:Blase Cafe\, 5263 Ocean Blvd.\, Sarasota\, FL\, 34242\, United States
CATEGORIES:Music
END:VEVENT
BEGIN:VEVENT
DTSTART;TZID=America/New_York:20251102T190000
DTEND;TZID=America/New_York:20251102T220000
DTSTAMP:20260419T223952
CREATED:20251110T174037Z
LAST-MODIFIED:20251110T174037Z
UID:2289-1762110000-1762120800@blasepisiesta.com
SUMMARY:Sabrina McClenithan
DESCRIPTION:
URL:https://blasepisiesta.com/event/sabrina-mcclenithan-5/
LOCATION:Blase Cafe\, 5263 Ocean Blvd.\, Sarasota\, FL\, 34242\, United States
CATEGORIES:Music
END:VEVENT
BEGIN:VEVENT
DTSTART;TZID=America/New_York:20251103T190000
DTEND;TZID=America/New_York:20251103T220000
DTSTAMP:20260419T223952
CREATED:20251110T174122Z
LAST-MODIFIED:20251110T174122Z
UID:2291-1762196400-1762207200@blasepisiesta.com
SUMMARY:Joe Bernui
DESCRIPTION:
URL:https://blasepisiesta.com/event/joe-bernui-3/
LOCATION:Blase Cafe\, 5263 Ocean Blvd.\, Sarasota\, FL\, 34242\, United States
CATEGORIES:Music
END:VEVENT
BEGIN:VEVENT
DTSTART;TZID=America/New_York:20251104T190000
DTEND;TZID=America/New_York:20251104T220000
DTSTAMP:20260419T223952
CREATED:20251110T174212Z
LAST-MODIFIED:20251110T174212Z
UID:2293-1762282800-1762293600@blasepisiesta.com
SUMMARY:Al Donadi
DESCRIPTION:
URL:https://blasepisiesta.com/event/al-donadi-13/
LOCATION:Blase Cafe\, 5263 Ocean Blvd.\, Sarasota\, FL\, 34242\, United States
CATEGORIES:Music
END:VEVENT
BEGIN:VEVENT
DTSTART;TZID=America/New_York:20251105T190000
DTEND;TZID=America/New_York:20251105T220000
DTSTAMP:20260419T223952
CREATED:20251110T174253Z
LAST-MODIFIED:20251110T174253Z
UID:2295-1762369200-1762380000@blasepisiesta.com
SUMMARY:Undr8ed Duo
DESCRIPTION:
URL:https://blasepisiesta.com/event/undr8ed-duo-16/
LOCATION:Blase Cafe\, 5263 Ocean Blvd.\, Sarasota\, FL\, 34242\, United States
CATEGORIES:Music
END:VEVENT
BEGIN:VEVENT
DTSTART;TZID=America/New_York:20251106T190000
DTEND;TZID=America/New_York:20251106T220000
DTSTAMP:20260419T223952
CREATED:20251110T174334Z
LAST-MODIFIED:20251110T174334Z
UID:2297-1762455600-1762466400@blasepisiesta.com
SUMMARY:Byrd n Moore
DESCRIPTION:
URL:https://blasepisiesta.com/event/byrd-n-moore-28/
LOCATION:FL
CATEGORIES:Music
END:VEVENT
BEGIN:VEVENT
DTSTART;TZID=America/New_York:20251107T190000
DTEND;TZID=America/New_York:20251107T220000
DTSTAMP:20260419T223952
CREATED:20251110T174440Z
LAST-MODIFIED:20251110T174440Z
UID:2299-1762542000-1762552800@blasepisiesta.com
SUMMARY:Ellipsis
DESCRIPTION:
URL:https://blasepisiesta.com/event/ellipsis/
LOCATION:Blase Cafe\, 5263 Ocean Blvd.\, Sarasota\, FL\, 34242\, United States
CATEGORIES:Music
END:VEVENT
BEGIN:VEVENT
DTSTART;TZID=America/New_York:20251108T190000
DTEND;TZID=America/New_York:20251108T220000
DTSTAMP:20260419T223952
CREATED:20251110T174522Z
LAST-MODIFIED:20251110T174522Z
UID:2301-1762628400-1762639200@blasepisiesta.com
SUMMARY:Southern Exposure
DESCRIPTION:
URL:https://blasepisiesta.com/event/southern-exposure/
LOCATION:Blase Cafe\, 5263 Ocean Blvd.\, Sarasota\, FL\, 34242\, United States
CATEGORIES:Music
END:VEVENT
BEGIN:VEVENT
DTSTART;TZID=America/New_York:20251109T190000
DTEND;TZID=America/New_York:20251109T220000
DTSTAMP:20260419T223952
CREATED:20251110T174636Z
LAST-MODIFIED:20251110T174636Z
UID:2303-1762714800-1762725600@blasepisiesta.com
SUMMARY:Chris Otto
DESCRIPTION:
URL:https://blasepisiesta.com/event/chris-otto-9/
LOCATION:Blase Cafe\, 5263 Ocean Blvd.\, Sarasota\, FL\, 34242\, United States
CATEGORIES:Music
END:VEVENT
BEGIN:VEVENT
DTSTART;TZID=America/New_York:20251110T190000
DTEND;TZID=America/New_York:20251110T220000
DTSTAMP:20260419T223952
CREATED:20251110T174714Z
LAST-MODIFIED:20251110T174714Z
UID:2305-1762801200-1762812000@blasepisiesta.com
SUMMARY:Bobby Schneck
DESCRIPTION:
URL:https://blasepisiesta.com/event/bobby-schneck-2/
LOCATION:Blase Cafe\, 5263 Ocean Blvd.\, Sarasota\, FL\, 34242\, United States
CATEGORIES:Music
END:VEVENT
BEGIN:VEVENT
DTSTART;TZID=America/New_York:20251110T190000
DTEND;TZID=America/New_York:20251110T220000
DTSTAMP:20260419T223952
CREATED:20251110T183607Z
LAST-MODIFIED:20251110T185128Z
UID:2386-1762801200-1762812000@blasepisiesta.com
SUMMARY:Undr8ed Band
DESCRIPTION:
URL:https://blasepisiesta.com/event/undr8ed-band-8/
LOCATION:Blase Cafe\, 5263 Ocean Blvd.\, Sarasota\, FL\, 34242\, United States
CATEGORIES:Music
END:VEVENT
BEGIN:VEVENT
DTSTART;TZID=America/New_York:20251111T190000
DTEND;TZID=America/New_York:20251111T220000
DTSTAMP:20260419T223952
CREATED:20251110T174758Z
LAST-MODIFIED:20251110T174758Z
UID:2307-1762887600-1762898400@blasepisiesta.com
SUMMARY:Al Donadi
DESCRIPTION:
URL:https://blasepisiesta.com/event/al-donadi-14/
LOCATION:Blase Cafe\, 5263 Ocean Blvd.\, Sarasota\, FL\, 34242\, United States
CATEGORIES:Music
END:VEVENT
BEGIN:VEVENT
DTSTART;TZID=America/New_York:20251112T190000
DTEND;TZID=America/New_York:20251112T220000
DTSTAMP:20260419T223952
CREATED:20251110T174838Z
LAST-MODIFIED:20251110T174838Z
UID:2309-1762974000-1762984800@blasepisiesta.com
SUMMARY:Miranda Becker
DESCRIPTION:
URL:https://blasepisiesta.com/event/miranda-becker-9/
LOCATION:Blase Cafe\, 5263 Ocean Blvd.\, Sarasota\, FL\, 34242\, United States
CATEGORIES:Music
END:VEVENT
BEGIN:VEVENT
DTSTART;TZID=America/New_York:20251113T190000
DTEND;TZID=America/New_York:20251113T220000
DTSTAMP:20260419T223952
CREATED:20251110T174921Z
LAST-MODIFIED:20251110T174921Z
UID:2311-1763060400-1763071200@blasepisiesta.com
SUMMARY:Byrd N Moore
DESCRIPTION:
URL:https://blasepisiesta.com/event/byrd-n-moore-29/
LOCATION:Blase Cafe\, 5263 Ocean Blvd.\, Sarasota\, FL\, 34242\, United States
CATEGORIES:Music
END:VEVENT
BEGIN:VEVENT
DTSTART;TZID=America/New_York:20251114T190000
DTEND;TZID=America/New_York:20251114T220000
DTSTAMP:20260419T223952
CREATED:20251110T175029Z
LAST-MODIFIED:20251110T175029Z
UID:2313-1763146800-1763157600@blasepisiesta.com
SUMMARY:Undr8ed Band
DESCRIPTION:
URL:https://blasepisiesta.com/event/undr8ed-band-7/
LOCATION:Blase Cafe\, 5263 Ocean Blvd.\, Sarasota\, FL\, 34242\, United States
CATEGORIES:Music
END:VEVENT
BEGIN:VEVENT
DTSTART;TZID=America/New_York:20251115T190000
DTEND;TZID=America/New_York:20251115T220000
DTSTAMP:20260419T223952
CREATED:20251110T175118Z
LAST-MODIFIED:20251110T175118Z
UID:2315-1763233200-1763244000@blasepisiesta.com
SUMMARY:The Monsoons
DESCRIPTION:
URL:https://blasepisiesta.com/event/the-monsoons-7/
LOCATION:Blase Cafe\, 5263 Ocean Blvd.\, Sarasota\, FL\, 34242\, United States
CATEGORIES:Music
END:VEVENT
BEGIN:VEVENT
DTSTART;TZID=America/New_York:20251116T190000
DTEND;TZID=America/New_York:20251116T220000
DTSTAMP:20260419T223952
CREATED:20251110T175201Z
LAST-MODIFIED:20251110T175201Z
UID:2317-1763319600-1763330400@blasepisiesta.com
SUMMARY:J Santi
DESCRIPTION:
URL:https://blasepisiesta.com/event/j-santi-7/
LOCATION:Blase Cafe\, 5263 Ocean Blvd.\, Sarasota\, FL\, 34242\, United States
CATEGORIES:Music
END:VEVENT
END:VCALENDAR